BEGIN:VCALENDAR
VERSION:2.0
PRODID:-//Farmers Table in Livingston - ECPv6.2.8.1//NONSGML v1.0//EN
CALSCALE:GREGORIAN
METHOD:PUBLISH
X-WR-CALNAME:Farmers Table in Livingston
X-ORIGINAL-URL:https://farmerstableinlivingston.com
X-WR-CALDESC:Events for Farmers Table in Livingston
REFRESH-INTERVAL;VALUE=DURATION:PT1H
X-Robots-Tag:noindex
X-PUBLISHED-TTL:PT1H
BEGIN:VTIMEZONE
TZID:America/Chicago
BEGIN:DAYLIGHT
TZOFFSETFROM:-0600
TZOFFSETTO:-0500
TZNAME:CDT
DTSTART:20230312T080000
END:DAYLIGHT
BEGIN:STANDARD
TZOFFSETFROM:-0500
TZOFFSETTO:-0600
TZNAME:CST
DTSTART:20231105T070000
END:STANDARD
END:VTIMEZONE
BEGIN:VEVENT
DTSTART;TZID=America/Chicago:20230401T113000
DTEND;TZID=America/Chicago:20230401T130000
DTSTAMP:20260422T132710
CREATED:20230113T211434Z
LAST-MODIFIED:20230113T211434Z
UID:53548-1680348600-1680354000@farmerstableinlivingston.com
SUMMARY:Bridal Shower
DESCRIPTION:
URL:https://farmerstableinlivingston.com/class/bridal-shower-11/
LOCATION:Chapel
END:VEVENT
BEGIN:VEVENT
DTSTART;TZID=America/Chicago:20230407T170000
DTEND;TZID=America/Chicago:20230407T200000
DTSTAMP:20260422T132710
CREATED:20230203T184804Z
LAST-MODIFIED:20230330T173521Z
UID:53761-1680886800-1680897600@farmerstableinlivingston.com
SUMMARY:Wedding Reception
DESCRIPTION:
URL:https://farmerstableinlivingston.com/class/wedding-reception-18/
LOCATION:Chapel
ORGANIZER;CN="Bridget Engle":MAILTO:bengle@farmerstableinlivingston.com
END:VEVENT
BEGIN:VEVENT
DTSTART;TZID=America/Chicago:20230408T120000
DTEND;TZID=America/Chicago:20230408T143000
DTSTAMP:20260422T132710
CREATED:20220426T215813Z
LAST-MODIFIED:20230320T202336Z
UID:51161-1680955200-1680964200@farmerstableinlivingston.com
SUMMARY:Wedding Lunch
DESCRIPTION:
URL:https://farmerstableinlivingston.com/class/wedding-lunch/
LOCATION:Farmer’s Table in Livingston\, 1030 Market Street\, Flora\, MS\, 39071\, United States
ORGANIZER;CN="Bridget Engle":MAILTO:bengle@farmerstableinlivingston.com
END:VEVENT
BEGIN:VEVENT
DTSTART;TZID=America/Chicago:20230409T080000
DTEND;TZID=America/Chicago:20230409T170000
DTSTAMP:20260422T132710
CREATED:20230108T004250Z
LAST-MODIFIED:20230108T004250Z
UID:53417-1681027200-1681059600@farmerstableinlivingston.com
SUMMARY:Easter Sunday
DESCRIPTION:
URL:https://farmerstableinlivingston.com/class/easter-sunday-4/
END:VEVENT
BEGIN:VEVENT
DTSTART;TZID=America/Chicago:20230412T180000
DTEND;TZID=America/Chicago:20230412T200000
DTSTAMP:20260422T132710
CREATED:20230125T214032Z
LAST-MODIFIED:20230327T202609Z
UID:53667-1681322400-1681329600@farmerstableinlivingston.com
SUMMARY:MRA Sr. Class
DESCRIPTION:
URL:https://farmerstableinlivingston.com/class/mra-sr-class-2/
LOCATION:Farmer’s Table in Livingston\, 1030 Market Street\, Flora\, MS\, 39071\, United States
ORGANIZER;CN="Bridget Engle":MAILTO:bengle@farmerstableinlivingston.com
END:VEVENT
BEGIN:VEVENT
DTSTART;TZID=America/Chicago:20230413T180000
DTEND;TZID=America/Chicago:20230413T200000
DTSTAMP:20260422T132710
CREATED:20230127T223011Z
LAST-MODIFIED:20230411T185516Z
UID:53695-1681408800-1681416000@farmerstableinlivingston.com
SUMMARY:Privat SR. Class
DESCRIPTION:
URL:https://farmerstableinlivingston.com/class/privat-sr-class/
LOCATION:Farmer’s Table in Livingston\, 1030 Market Street\, Flora\, MS\, 39071\, United States
ORGANIZER;CN="Bridget Engle":MAILTO:bengle@farmerstableinlivingston.com
END:VEVENT
BEGIN:VEVENT
DTSTART;TZID=America/Chicago:20230415T110000
DTEND;TZID=America/Chicago:20230415T130000
DTSTAMP:20260422T132710
CREATED:20230329T220028Z
LAST-MODIFIED:20230403T220616Z
UID:53903-1681556400-1681563600@farmerstableinlivingston.com
SUMMARY:Birthday Class
DESCRIPTION:
URL:https://farmerstableinlivingston.com/class/birthday-class-7/
LOCATION:Farmer’s Table in Livingston\, 1030 Market Street\, Flora\, MS\, 39071\, United States
END:VEVENT
BEGIN:VEVENT
DTSTART;TZID=America/Chicago:20230419T180000
DTEND;TZID=America/Chicago:20230419T200000
DTSTAMP:20260422T132710
CREATED:20230215T170630Z
LAST-MODIFIED:20230415T192708Z
UID:53814-1681927200-1681934400@farmerstableinlivingston.com
SUMMARY:Germantown Grad. Class
DESCRIPTION:
URL:https://farmerstableinlivingston.com/class/germantown-grad-class/
LOCATION:Farmer’s Table in Livingston\, 1030 Market Street\, Flora\, MS\, 39071\, United States
ORGANIZER;CN="Bridget Engle":MAILTO:bengle@farmerstableinlivingston.com
END:VEVENT
BEGIN:VEVENT
DTSTART;TZID=America/Chicago:20230421T110000
DTEND;TZID=America/Chicago:20230421T130000
DTSTAMP:20260422T132710
CREATED:20230215T233256Z
LAST-MODIFIED:20230216T002832Z
UID:53824-1682074800-1682082000@farmerstableinlivingston.com
SUMMARY:Sunray
DESCRIPTION:
URL:https://farmerstableinlivingston.com/class/sunray/
LOCATION:Farmer’s Table in Livingston\, 1030 Market Street\, Flora\, MS\, 39071\, United States
ORGANIZER;CN="Bridget Engle":MAILTO:bengle@farmerstableinlivingston.com
END:VEVENT
BEGIN:VEVENT
DTSTART;TZID=America/Chicago:20230422T080000
DTEND;TZID=America/Chicago:20230422T220000
DTSTAMP:20260422T132710
CREATED:20220927T210222Z
LAST-MODIFIED:20220927T210428Z
UID:52386-1682150400-1682200800@farmerstableinlivingston.com
SUMMARY:Rhodes Wedding Reception
DESCRIPTION:
URL:https://farmerstableinlivingston.com/class/rhodes-wedding-reception/
ORGANIZER;CN="Bridget Engle":MAILTO:bengle@farmerstableinlivingston.com
END:VEVENT
BEGIN:VEVENT
DTSTART;TZID=America/Chicago:20230427T150000
DTEND;TZID=America/Chicago:20230427T200000
DTSTAMP:20260422T132710
CREATED:20230327T182049Z
LAST-MODIFIED:20230327T182049Z
UID:53895-1682607600-1682625600@farmerstableinlivingston.com
SUMMARY:Private Event
DESCRIPTION:
URL:https://farmerstableinlivingston.com/class/private-event-84/
END:VEVENT
BEGIN:VEVENT
DTSTART;TZID=America/Chicago:20230428T180000
DTEND;TZID=America/Chicago:20230428T200000
DTSTAMP:20260422T132710
CREATED:20230217T205503Z
LAST-MODIFIED:20230422T172912Z
UID:53833-1682704800-1682712000@farmerstableinlivingston.com
SUMMARY:Birthday Class
DESCRIPTION:Salad\nTruffle potato\nfilet with crab butter sauce\nbananas foster
URL:https://farmerstableinlivingston.com/class/sr-grad-class-6/
LOCATION:Farmer’s Table in Livingston\, 1030 Market Street\, Flora\, MS\, 39071\, United States
END:VEVENT
BEGIN:VEVENT
DTSTART;TZID=America/Chicago:20230429T110000
DTEND;TZID=America/Chicago:20230429T130000
DTSTAMP:20260422T132710
CREATED:20230331T205723Z
LAST-MODIFIED:20230331T210708Z
UID:53906-1682766000-1682773200@farmerstableinlivingston.com
SUMMARY:Birthday Class
DESCRIPTION:
URL:https://farmerstableinlivingston.com/class/birthday-class-8/
LOCATION:Farmer’s Table in Livingston\, 1030 Market Street\, Flora\, MS\, 39071\, United States
ORGANIZER;CN="Bridget Engle":MAILTO:bengle@farmerstableinlivingston.com
END:VEVENT
BEGIN:VEVENT
DTSTART;TZID=America/Chicago:20230429T170000
DTEND;TZID=America/Chicago:20230429T190000
DTSTAMP:20260422T132710
CREATED:20230414T215041Z
LAST-MODIFIED:20230424T195317Z
UID:53955-1682787600-1682794800@farmerstableinlivingston.com
SUMMARY:Private Birthday Class
DESCRIPTION:
URL:https://farmerstableinlivingston.com/class/private-birthday-class-20/
LOCATION:Farmer’s Table in Livingston\, 1030 Market Street\, Flora\, MS\, 39071\, United States
END:VEVENT
END:VCALENDAR