BEGIN:VCALENDAR
VERSION:2.0
PRODID:-//Farmers Table in Livingston - ECPv6.2.8.1//NONSGML v1.0//EN
CALSCALE:GREGORIAN
METHOD:PUBLISH
X-WR-CALNAME:Farmers Table in Livingston
X-ORIGINAL-URL:https://farmerstableinlivingston.com
X-WR-CALDESC:Events for Farmers Table in Livingston
REFRESH-INTERVAL;VALUE=DURATION:PT1H
X-Robots-Tag:noindex
X-PUBLISHED-TTL:PT1H
BEGIN:VTIMEZONE
TZID:America/Chicago
BEGIN:DAYLIGHT
TZOFFSETFROM:-0600
TZOFFSETTO:-0500
TZNAME:CDT
DTSTART:20200308T080000
END:DAYLIGHT
BEGIN:STANDARD
TZOFFSETFROM:-0500
TZOFFSETTO:-0600
TZNAME:CST
DTSTART:20201101T070000
END:STANDARD
END:VTIMEZONE
BEGIN:VEVENT
DTSTART;TZID=America/Chicago:20200130T180000
DTEND;TZID=America/Chicago:20200130T200000
DTSTAMP:20260421T033027
CREATED:20191216T205402Z
LAST-MODIFIED:20191216T205402Z
UID:38460-1580407200-1580414400@farmerstableinlivingston.com
SUMMARY:Henry Schein Dental
DESCRIPTION:
URL:https://farmerstableinlivingston.com/class/henry-schein-dental/
LOCATION:Farmer’s Table in Livingston\, 1030 Market Street\, Flora\, MS\, 39071\, United States
END:VEVENT
BEGIN:VEVENT
DTSTART;TZID=America/Chicago:20200130T120000
DTEND;TZID=America/Chicago:20200130T150000
DTSTAMP:20260421T033027
CREATED:20200114T210126Z
LAST-MODIFIED:20200122T200127Z
UID:40588-1580385600-1580396400@farmerstableinlivingston.com
SUMMARY:PHSFC
DESCRIPTION:
URL:https://farmerstableinlivingston.com/class/phsfc-3/
END:VEVENT
BEGIN:VEVENT
DTSTART;TZID=America/Chicago:20200129T180000
DTEND;TZID=America/Chicago:20200129T200000
DTSTAMP:20260421T033027
CREATED:20191210T183700Z
LAST-MODIFIED:20200115T201058Z
UID:38013-1580320800-1580328000@farmerstableinlivingston.com
SUMMARY:Southern Fried Chicken Dinner 1/29/20
DESCRIPTION:Fried Dill Pickle Salad with Field Greens\, Shaved Red Onion\, Sunburst Cherry Tomatoes\, Crispy Croutons and Herb Buttermilk Ranch Dressing \nSouthern Fried Chicken with Creamy Mac and Cheese and Braised Collard Greens and Homemade Cornbread \nPecan Pie with Vanilla Ice Cream
URL:https://farmerstableinlivingston.com/class/southern-fried-chicken-dinner-1-29-20/
LOCATION:Farmer’s Table in Livingston\, 1030 Market Street\, Flora\, MS\, 39071\, United States
END:VEVENT
BEGIN:VEVENT
DTSTART;TZID=America/Chicago:20200129T153000
DTEND;TZID=America/Chicago:20200129T170000
DTSTAMP:20260421T033027
CREATED:20200126T225138Z
LAST-MODIFIED:20200126T225138Z
UID:41233-1580311800-1580317200@farmerstableinlivingston.com
SUMMARY:PHFCS
DESCRIPTION:
URL:https://farmerstableinlivingston.com/class/phfcs/
END:VEVENT
BEGIN:VEVENT
DTSTART;TZID=America/Chicago:20200128T180000
DTEND;TZID=America/Chicago:20200128T200000
DTSTAMP:20260421T033027
CREATED:20191210T174244Z
LAST-MODIFIED:20200128T215104Z
UID:38009-1580234400-1580241600@farmerstableinlivingston.com
SUMMARY:Garlic Roasted Pork Loin 1/28/20
DESCRIPTION:Romaine Heart Salad with Shaved Red Onion\, Heirloom Tomatoes\, Sliced Cucumbers\, Garlic Ciabatta Croutons with Smoked Onion Comeback \nGarlic Roasted Pork Loin with Buttermilk Potato Puree and Thyme Roasted Carrots and Cauliflower with Madeira Wine Demi Glace \nHomemade Cheesecake with Blueberry Compote
URL:https://farmerstableinlivingston.com/class/garlic-roasted-pork-loin-1-28-20/
LOCATION:Farmer’s Table in Livingston\, 1030 Market Street\, Flora\, MS\, 39071\, United States
END:VEVENT
BEGIN:VEVENT
DTSTART;TZID=America/Chicago:20200126T153000
DTEND;TZID=America/Chicago:20200126T170000
DTSTAMP:20260421T033027
CREATED:20200124T174854Z
LAST-MODIFIED:20200124T174854Z
UID:41078-1580052600-1580058000@farmerstableinlivingston.com
SUMMARY:Catering
DESCRIPTION:
URL:https://farmerstableinlivingston.com/class/catering-46/
END:VEVENT
BEGIN:VEVENT
DTSTART;TZID=America/Chicago:20200125T180000
DTEND;TZID=America/Chicago:20200125T200000
DTSTAMP:20260421T033027
CREATED:20191101T150353Z
LAST-MODIFIED:20200107T225113Z
UID:36311-1579975200-1579982400@farmerstableinlivingston.com
SUMMARY:Faces of Ridgeland
DESCRIPTION:
URL:https://farmerstableinlivingston.com/class/faces-of-ridgeland/
LOCATION:Farmer’s Table in Livingston\, 1030 Market Street\, Flora\, MS\, 39071\, United States
ORGANIZER;CN="Bridget Engle":MAILTO:bengle@farmerstableinlivingston.com
END:VEVENT
BEGIN:VEVENT
DTSTART;TZID=America/Chicago:20200125T153000
DTEND;TZID=America/Chicago:20200125T170000
DTSTAMP:20260421T033027
CREATED:20200114T210209Z
LAST-MODIFIED:20200124T154736Z
UID:40590-1579966200-1579971600@farmerstableinlivingston.com
SUMMARY:PHFCS
DESCRIPTION:
URL:https://farmerstableinlivingston.com/class/catering-1-25th/
END:VEVENT
BEGIN:VEVENT
DTSTART;TZID=America/Chicago:20200124T180000
DTEND;TZID=America/Chicago:20200124T200000
DTSTAMP:20260421T033027
CREATED:20191210T031750Z
LAST-MODIFIED:20200124T174723Z
UID:37979-1579888800-1579896000@farmerstableinlivingston.com
SUMMARY:Pan Roasted Redfish
DESCRIPTION:Roasted Winter Squash Soup with Toasted Pepitas and Crispy Bacon Lardons \nPan Roasted Redfish Filets over a Roasted Corn Succotash and Pan Roasted Wild Mushroom Medley with a Citrus Lemon Butter Sauce \nChocolate Pot de Creme with Fresh Whipped Cream and Toasted Almonds
URL:https://farmerstableinlivingston.com/class/pan-roasted-redfish-1-24-20/
LOCATION:Farmer’s Table in Livingston\, 1030 Market Street\, Flora\, MS\, 39071\, United States
END:VEVENT
BEGIN:VEVENT
DTSTART;TZID=America/Chicago:20200123T110000
DTEND;TZID=America/Chicago:20200123T130000
DTSTAMP:20260421T033027
CREATED:20190117T183738Z
LAST-MODIFIED:20190117T184315Z
UID:27702-1579777200-1579784400@farmerstableinlivingston.com
SUMMARY:Welcome Neighbor
DESCRIPTION:
URL:https://farmerstableinlivingston.com/class/welcome-neighbor-3/
LOCATION:Farmer’s Table in Livingston\, 1030 Market Street\, Flora\, MS\, 39071\, United States
ORGANIZER;CN="Bridget Engle":MAILTO:bengle@farmerstableinlivingston.com
END:VEVENT
BEGIN:VEVENT
DTSTART;TZID=America/Chicago:20200122T180000
DTEND;TZID=America/Chicago:20200122T200000
DTSTAMP:20260421T033027
CREATED:20191210T171926Z
LAST-MODIFIED:20191210T171926Z
UID:38007-1579716000-1579723200@farmerstableinlivingston.com
SUMMARY:Flank Steak Quesadillas 1/22/20
DESCRIPTION:Lime Cilantro Chicken Empanadas with Spicy Sour Cream Dipping Sauce \nGrilled Flank Steak Quesadillas with Fresh Pico de Gallo and Salsa Verde \nTres Leche Cake with Cinnamon Whipped Cream
URL:https://farmerstableinlivingston.com/class/flank-steak-quesadillas-1-22-20/
LOCATION:Farmer’s Table in Livingston\, 1030 Market Street\, Flora\, MS\, 39071\, United States
END:VEVENT
BEGIN:VEVENT
DTSTART;TZID=America/Chicago:20200121T180000
DTEND;TZID=America/Chicago:20200121T200000
DTSTAMP:20260421T033027
CREATED:20191101T183618Z
LAST-MODIFIED:20200104T182835Z
UID:36316-1579629600-1579636800@farmerstableinlivingston.com
SUMMARY:Grilled Chicken Pasta Sold Out
DESCRIPTION:Traditional Caesar Salad with Ciabatta Croutons \nGrilled Chicken Pasta with a Parmesan Cream Sauce and Garlic Bread \nStrawberry Pie with Cinnamon Spiced Whipped Cream
URL:https://farmerstableinlivingston.com/class/grilled-chicken-pasta-1-21-20/
LOCATION:Farmer’s Table in Livingston\, 1030 Market Street\, Flora\, MS\, 39071\, United States
END:VEVENT
BEGIN:VEVENT
DTSTART;TZID=America/Chicago:20200121T150000
DTEND;TZID=America/Chicago:20200121T170000
DTSTAMP:20260421T033027
CREATED:20200114T205525Z
LAST-MODIFIED:20200114T205735Z
UID:40587-1579618800-1579626000@farmerstableinlivingston.com
SUMMARY:PHSFC
DESCRIPTION:
URL:https://farmerstableinlivingston.com/class/phsfc-2/
ORGANIZER;CN="Bridget Engle":MAILTO:bengle@farmerstableinlivingston.com
END:VEVENT
BEGIN:VEVENT
DTSTART;TZID=America/Chicago:20200118T173000
DTEND;TZID=America/Chicago:20200118T193000
DTSTAMP:20260421T033027
CREATED:20191126T214308Z
LAST-MODIFIED:20200118T141820Z
UID:37342-1579368600-1579375800@farmerstableinlivingston.com
SUMMARY:Grilled NY Strip Steaks
DESCRIPTION:Roasted Winter Squash Salad with Pomegranate Seeds\, Toasted Walnuts\, Shaved Red Onions\, Grated Pecorino Romano Cheese tossed with a Sherry Dijon Vinaigrette \nGrilled New York Strip Steaks with Jumbo Lump Crabmeat over Parmesan Risotto and Garlic Sautéed Asparagus with a Red Wine Demi Glace \nCast Iron Skillet Apple Pie with Fresh Whipped Cream \n 
URL:https://farmerstableinlivingston.com/class/grilled-ny-strip-steaks-1-18-20/
LOCATION:Farmer’s Table in Livingston\, 1030 Market Street\, Flora\, MS\, 39071\, United States
END:VEVENT
BEGIN:VEVENT
DTSTART;TZID=America/Chicago:20200117T180000
DTEND;TZID=America/Chicago:20200117T200000
DTSTAMP:20260421T033027
CREATED:20191210T041249Z
LAST-MODIFIED:20200116T170024Z
UID:37991-1579284000-1579291200@farmerstableinlivingston.com
SUMMARY:Private Event
DESCRIPTION:Fried Goat Cheese Fritter Salad with Crispy Tuscan Kale\, Sweet Red Onions\, Toasted Pine Nuts\, Pickled Beets tossed in a Herbed Lemon Vinaigrette \nPan Roasted Redfish Filets over a Jalapeno Cheddar Cheese Grits with a Crabmeat Lemon Butter Sauce \nChocolate Lava Cakes with Whipped Creme
URL:https://farmerstableinlivingston.com/class/private-event-47/
LOCATION:Farmer’s Table in Livingston\, 1030 Market Street\, Flora\, MS\, 39071\, United States
ORGANIZER;CN="Bridget Engle":MAILTO:bengle@farmerstableinlivingston.com
END:VEVENT
BEGIN:VEVENT
DTSTART;TZID=America/Chicago:20200117T150000
DTEND;TZID=America/Chicago:20200117T170000
DTSTAMP:20260421T033027
CREATED:20200110T230219Z
LAST-MODIFIED:20200113T201434Z
UID:40431-1579273200-1579280400@farmerstableinlivingston.com
SUMMARY:Catering
DESCRIPTION:
URL:https://farmerstableinlivingston.com/class/catering-45/
LOCATION:Farmer’s Table in Livingston\, 1030 Market Street\, Flora\, MS\, 39071\, United States
ORGANIZER;CN="Bridget Engle":MAILTO:bengle@farmerstableinlivingston.com
END:VEVENT
BEGIN:VEVENT
DTSTART;TZID=America/Chicago:20200117T123000
DTEND;TZID=America/Chicago:20200117T140000
DTSTAMP:20260421T033027
CREATED:20191221T211058Z
LAST-MODIFIED:20191223T192830Z
UID:38979-1579264200-1579269600@farmerstableinlivingston.com
SUMMARY:Jackson Heart Lunch
DESCRIPTION:
URL:https://farmerstableinlivingston.com/class/jackson-heart-lunch/
LOCATION:Farmer’s Table in Livingston\, 1030 Market Street\, Flora\, MS\, 39071\, United States
END:VEVENT
BEGIN:VEVENT
DTSTART;TZID=America/Chicago:20200116T180000
DTEND;TZID=America/Chicago:20200116T200000
DTSTAMP:20260421T033027
CREATED:20191119T221413Z
LAST-MODIFIED:20191119T222543Z
UID:37054-1579197600-1579204800@farmerstableinlivingston.com
SUMMARY:BCI
DESCRIPTION:
URL:https://farmerstableinlivingston.com/class/bci/
LOCATION:Farmer’s Table in Livingston\, 1030 Market Street\, Flora\, MS\, 39071\, United States
END:VEVENT
BEGIN:VEVENT
DTSTART;TZID=America/Chicago:20200116T090000
DTEND;TZID=America/Chicago:20200116T100000
DTSTAMP:20260421T033027
CREATED:20191119T205436Z
LAST-MODIFIED:20191119T205436Z
UID:37048-1579165200-1579168800@farmerstableinlivingston.com
SUMMARY:Madison Crossing Demo 1/16/2020
DESCRIPTION:
URL:https://farmerstableinlivingston.com/class/madison-crossing-demo-1-16-2020/
END:VEVENT
BEGIN:VEVENT
DTSTART;TZID=America/Chicago:20200115T180000
DTEND;TZID=America/Chicago:20200115T200000
DTSTAMP:20260421T033027
CREATED:20191223T205106Z
LAST-MODIFIED:20191223T205106Z
UID:39140-1579111200-1579118400@farmerstableinlivingston.com
SUMMARY:Highland Village
DESCRIPTION:
URL:https://farmerstableinlivingston.com/class/highland-village/
LOCATION:Farmer’s Table in Livingston\, 1030 Market Street\, Flora\, MS\, 39071\, United States
END:VEVENT
BEGIN:VEVENT
DTSTART;TZID=America/Chicago:20200114T180000
DTEND;TZID=America/Chicago:20200114T200000
DTSTAMP:20260421T033027
CREATED:20190903T175309Z
LAST-MODIFIED:20191119T202726Z
UID:33824-1579024800-1579032000@farmerstableinlivingston.com
SUMMARY:Korean BBQ Beef
DESCRIPTION:Sweet and Spicy Shrimp Rolls with Gochujang Dipping Sauce \nKorean BBQ Beef (Bulgogi) over Steamed White Rice and Kimchee and Toasted Sesame Seeds \nMini Sweet Rice Cakes with Sweet Glaze
URL:https://farmerstableinlivingston.com/class/korean-bbq-beef-01-14-20/
LOCATION:Farmer’s Table in Livingston\, 1030 Market Street\, Flora\, MS\, 39071\, United States
END:VEVENT
BEGIN:VEVENT
DTSTART;TZID=America/Chicago:20200114T130000
DTEND;TZID=America/Chicago:20200114T140000
DTSTAMP:20260421T033027
CREATED:20191119T205003Z
LAST-MODIFIED:20191119T205003Z
UID:37047-1579006800-1579010400@farmerstableinlivingston.com
SUMMARY:Madison Upper Elementary Demo 1/14/19
DESCRIPTION:
URL:https://farmerstableinlivingston.com/class/madison-upper-elementary-demo-1-14-19/
END:VEVENT
BEGIN:VEVENT
DTSTART;TZID=America/Chicago:20200111T173000
DTEND;TZID=America/Chicago:20200111T193000
DTSTAMP:20260421T033027
CREATED:20191210T030654Z
LAST-MODIFIED:20200103T175236Z
UID:37973-1578763800-1578771000@farmerstableinlivingston.com
SUMMARY:Surf and Turf Sold Out
DESCRIPTION:Field Greens Salad with Shaved Manchego Cheese\, Toasted Walnuts\, Pickled Red Baby Beets\, Shaved Red Onion\, Shaved Apples with a Sweet Red Wine Vinaigrette \nGrilled Filet Mignon and Broiled Lobster Tails with Truffle Yukon Gold Mashed Potatoes and Garlic Roasted Broccoli and Cauliflower Medley with a Red Wine Demi Glace \nMS Mud Pie – Chocolate Tart with Chocolate Mousse and Fresh Whipped Cream and Shaved Dark Chocolate
URL:https://farmerstableinlivingston.com/class/surf-and-turf-1-11-20/
LOCATION:Farmer’s Table in Livingston\, 1030 Market Street\, Flora\, MS\, 39071\, United States
END:VEVENT
BEGIN:VEVENT
DTSTART;TZID=America/Chicago:20200110T180000
DTEND;TZID=America/Chicago:20200110T200000
DTSTAMP:20260421T033027
CREATED:20191112T183539Z
LAST-MODIFIED:20191112T183539Z
UID:36831-1578679200-1578686400@farmerstableinlivingston.com
SUMMARY:Atmos
DESCRIPTION:
URL:https://farmerstableinlivingston.com/class/atmos-3/
LOCATION:Farmer’s Table in Livingston\, 1030 Market Street\, Flora\, MS\, 39071\, United States
END:VEVENT
BEGIN:VEVENT
DTSTART;TZID=America/Chicago:20200110T150000
DTEND;TZID=America/Chicago:20200110T170000
DTSTAMP:20260421T033027
CREATED:20191217T231627Z
LAST-MODIFIED:20191217T231627Z
UID:38547-1578668400-1578675600@farmerstableinlivingston.com
SUMMARY:Catering PHFCC
DESCRIPTION:
URL:https://farmerstableinlivingston.com/class/catering-phfcc/
LOCATION:Providence
ORGANIZER;CN="Bridget Engle":MAILTO:bengle@farmerstableinlivingston.com
END:VEVENT
BEGIN:VEVENT
DTSTART;TZID=America/Chicago:20200108T180000
DTEND;TZID=America/Chicago:20200108T200000
DTSTAMP:20260421T033027
CREATED:20191126T211652Z
LAST-MODIFIED:20200108T042855Z
UID:37336-1578506400-1578513600@farmerstableinlivingston.com
SUMMARY:Hand Rolled Sushi 1/8/20
DESCRIPTION:Fried Miso Pork Dumplings with a Sesame Chili Sauce \n#1 Sushi Grade Yellowfin Tuna Sushi Rolls and Traditional Toppings and Fillings \nAsian Doughnuts with Chinese Five Spice Honey Drizzle \n 
URL:https://farmerstableinlivingston.com/class/hand-rolled-sushi-1-8-20/
LOCATION:Farmer’s Table in Livingston\, 1030 Market Street\, Flora\, MS\, 39071\, United States
END:VEVENT
BEGIN:VEVENT
DTSTART;TZID=America/Chicago:20200107T180000
DTEND;TZID=America/Chicago:20200107T200000
DTSTAMP:20260421T033027
CREATED:20191016T211537Z
LAST-MODIFIED:20191209T193531Z
UID:35775-1578420000-1578427200@farmerstableinlivingston.com
SUMMARY:Roasted Chicken Thighs
DESCRIPTION:Potato and Leek Soup with Crispy Bacon and Chive Oil \nRoasted Chicken Thighs over White Bean Cassoulet with Thyme Roasted Cauliflower \nPumpkin Spiced Flan with Caramel Sauce
URL:https://farmerstableinlivingston.com/class/roasted-chicken-thighs-01-07-20/
LOCATION:Farmer’s Table in Livingston\, 1030 Market Street\, Flora\, MS\, 39071\, United States
END:VEVENT
BEGIN:VEVENT
DTSTART;TZID=America/Chicago:20200104T173000
DTEND;TZID=America/Chicago:20200104T193000
DTSTAMP:20260421T033027
CREATED:20191126T212049Z
LAST-MODIFIED:20191231T161641Z
UID:37338-1578159000-1578166200@farmerstableinlivingston.com
SUMMARY:Pan Roasted Redfish Sold Out
DESCRIPTION:Fire Roasted Tomato and Basil Soup with a Gruyere Grilled Cheese Dipper \nPan Roasted Gulf Redfish over Yukon Gold Mashed Potatoes with Grilled Squash and Zucchini Medley \nSweet Potato Pie with Candied Pecans and Whipped Cream
URL:https://farmerstableinlivingston.com/class/pan-roasted-redfish-1-4-20/
LOCATION:Farmer’s Table in Livingston\, 1030 Market Street\, Flora\, MS\, 39071\, United States
END:VEVENT
BEGIN:VEVENT
DTSTART;TZID=America/Chicago:20200104T160000
DTEND;TZID=America/Chicago:20200104T170000
DTSTAMP:20260421T033027
CREATED:20191221T194229Z
LAST-MODIFIED:20191231T161805Z
UID:38957-1578153600-1578157200@farmerstableinlivingston.com
SUMMARY:PHFSC Catering
DESCRIPTION:
URL:https://farmerstableinlivingston.com/class/phfsc-catering/
LOCATION:Providence
END:VEVENT
BEGIN:VEVENT
DTSTART;TZID=America/Chicago:20200104T120000
DTEND;TZID=America/Chicago:20200104T140000
DTSTAMP:20260421T033027
CREATED:20191209T200329Z
LAST-MODIFIED:20191221T190650Z
UID:37953-1578139200-1578146400@farmerstableinlivingston.com
SUMMARY:Salem's 13th
DESCRIPTION:Italian Salad \nGrilled Chicken Fettuccini with Alfredo sauce \nCupcake decorating with Fondant \n10ppl
URL:https://farmerstableinlivingston.com/class/salems-13th/
LOCATION:Farmer’s Table in Livingston\, 1030 Market Street\, Flora\, MS\, 39071\, United States
ORGANIZER;CN="Bridget Engle":MAILTO:bengle@farmerstableinlivingston.com
END:VEVENT
END:VCALENDAR