BEGIN:VCALENDAR
VERSION:2.0
PRODID:-//Farmers Table in Livingston - ECPv6.2.8.1//NONSGML v1.0//EN
CALSCALE:GREGORIAN
METHOD:PUBLISH
X-WR-CALNAME:Farmers Table in Livingston
X-ORIGINAL-URL:https://farmerstableinlivingston.com
X-WR-CALDESC:Events for Farmers Table in Livingston
REFRESH-INTERVAL;VALUE=DURATION:PT1H
X-Robots-Tag:noindex
X-PUBLISHED-TTL:PT1H
BEGIN:VTIMEZONE
TZID:America/Chicago
BEGIN:DAYLIGHT
TZOFFSETFROM:-0600
TZOFFSETTO:-0500
TZNAME:CDT
DTSTART:20260308T080000
END:DAYLIGHT
BEGIN:STANDARD
TZOFFSETFROM:-0500
TZOFFSETTO:-0600
TZNAME:CST
DTSTART:20261101T070000
END:STANDARD
END:VTIMEZONE
BEGIN:VEVENT
DTSTART;TZID=America/Chicago:20260423T180000
DTEND;TZID=America/Chicago:20260423T200000
DTSTAMP:20260423T091658
CREATED:20260307T070457Z
LAST-MODIFIED:20260423T132806Z
UID:64479-1776967200-1776974400@farmerstableinlivingston.com
SUMMARY:Pan Seared  Shrimp Class- tickets available
DESCRIPTION:Wednesday —  \nSalad \nFresh baby greens tossed with juicy satsuma segments\, ruby red grapefruit\, and sweet cherry \ntomatoes\, finished with a bright honey Dijon vinaigrette that balances citrus and Southern \nhoney. \nEntrée \nPan-seared Gulf shrimp sautéed until perfectly tender and finished in a silky lemon butter \nsauce inspired by the flavors of the Mississippi Gulf Coast. \nSides \nFluffy herb rice pilaf infused with fresh herbs and aromatics. \nGarlic sautéed green beans cooked just until crisp-tender for a vibrant finish. \nDessert \nClassic Southern banana pudding\, layered with creamy vanilla custard\, fresh bananas and vanilla wafers!
URL:https://farmerstableinlivingston.com/class/coastal-ms-gulf-shrimp-class-tickets-available/
END:VEVENT
END:VCALENDAR