BEGIN:VCALENDAR
VERSION:2.0
PRODID:-//Farmers Table in Livingston - ECPv6.2.8.1//NONSGML v1.0//EN
CALSCALE:GREGORIAN
METHOD:PUBLISH
X-WR-CALNAME:Farmers Table in Livingston
X-ORIGINAL-URL:https://farmerstableinlivingston.com
X-WR-CALDESC:Events for Farmers Table in Livingston
REFRESH-INTERVAL;VALUE=DURATION:PT1H
X-Robots-Tag:noindex
X-PUBLISHED-TTL:PT1H
BEGIN:VTIMEZONE
TZID:America/Chicago
BEGIN:DAYLIGHT
TZOFFSETFROM:-0600
TZOFFSETTO:-0500
TZNAME:CDT
DTSTART:20260308T080000
END:DAYLIGHT
BEGIN:STANDARD
TZOFFSETFROM:-0500
TZOFFSETTO:-0600
TZNAME:CST
DTSTART:20261101T070000
END:STANDARD
END:VTIMEZONE
BEGIN:VEVENT
DTSTART;TZID=America/Chicago:20260221T173000
DTEND;TZID=America/Chicago:20260221T193000
DTSTAMP:20260421T172605
CREATED:20260109T205451Z
LAST-MODIFIED:20260218T173009Z
UID:63993-1771695000-1771702200@farmerstableinlivingston.com
SUMMARY:Cowboy Filet Class- Sold Out
DESCRIPTION:SaladArugula tossed in a balsamic vinaigrette\, topped with sliced peaches\, red onions\, candied pecans\, and Gorgonzola cheese. \nEntréeBacon-wrapped filet topped with crispy fried onions and a red wine demi-glace\, served with twice-baked potatoes and garlic Parmesan–roasted asparagus. \nDessertWarm apple cobbler served with vanilla ice cream.
URL:https://farmerstableinlivingston.com/class/cowboy-filet-class/
END:VEVENT
END:VCALENDAR