BEGIN:VCALENDAR
VERSION:2.0
PRODID:-//Farmers Table in Livingston - ECPv6.2.8.1//NONSGML v1.0//EN
CALSCALE:GREGORIAN
METHOD:PUBLISH
X-ORIGINAL-URL:https://farmerstableinlivingston.com
X-WR-CALDESC:Events for Farmers Table in Livingston
REFRESH-INTERVAL;VALUE=DURATION:PT1H
X-Robots-Tag:noindex
X-PUBLISHED-TTL:PT1H
BEGIN:VTIMEZONE
TZID:America/Chicago
BEGIN:DAYLIGHT
TZOFFSETFROM:-0600
TZOFFSETTO:-0500
TZNAME:CDT
DTSTART:20250309T080000
END:DAYLIGHT
BEGIN:STANDARD
TZOFFSETFROM:-0500
TZOFFSETTO:-0600
TZNAME:CST
DTSTART:20251102T070000
END:STANDARD
END:VTIMEZONE
BEGIN:VEVENT
DTSTART;TZID=America/Chicago:20251121T180000
DTEND;TZID=America/Chicago:20251121T200000
DTSTAMP:20260424T053233
CREATED:20251015T193936Z
LAST-MODIFIED:20251115T201340Z
UID:63251-1763748000-1763755200@farmerstableinlivingston.com
SUMMARY:Oven Roasted Salmon- tickets available
DESCRIPTION:Avocado and Beetroot Salad \nSalad days lettuce tossed in a fennel and cranberry dressing topped with sliced avocado\, braised beets\, goat cheese and pistachios. \nRoasted Salmon \nSalmon filet crusted in Farmers Table Cooking school Fresh herb crust topped with a creamy lemon caper butter sauce. \nJasmine Rice Pilaf \nJasmine rice cooked in saffron water and seasoned with toasted almonds and minced parsley. \nStuffed mushrooms \nBleu cheese and spinach stuffed Cremini mushrooms seasoned with garlic butter and roasted in the oven. \nChocolate Creme Brulee \nA traditional french custard with rich chocolate flavor topped with torched sugar and fresh berries. \n 
URL:https://farmerstableinlivingston.com/class/oven-roasted-salmon/
END:VEVENT
END:VCALENDAR