BEGIN:VCALENDAR
VERSION:2.0
PRODID:-//Farmers Table in Livingston - ECPv6.2.8.1//NONSGML v1.0//EN
CALSCALE:GREGORIAN
METHOD:PUBLISH
X-ORIGINAL-URL:https://farmerstableinlivingston.com
X-WR-CALDESC:Events for Farmers Table in Livingston
REFRESH-INTERVAL;VALUE=DURATION:PT1H
X-Robots-Tag:noindex
X-PUBLISHED-TTL:PT1H
BEGIN:VTIMEZONE
TZID:America/Chicago
BEGIN:DAYLIGHT
TZOFFSETFROM:-0600
TZOFFSETTO:-0500
TZNAME:CDT
DTSTART:20250309T080000
END:DAYLIGHT
BEGIN:STANDARD
TZOFFSETFROM:-0500
TZOFFSETTO:-0600
TZNAME:CST
DTSTART:20251102T070000
END:STANDARD
END:VTIMEZONE
BEGIN:VEVENT
DTSTART;TZID=America/Chicago:20251023T180000
DTEND;TZID=America/Chicago:20251023T200000
DTSTAMP:20260422T145804
CREATED:20250927T202326Z
LAST-MODIFIED:20251022T185147Z
UID:63142-1761242400-1761249600@farmerstableinlivingston.com
SUMMARY:Grilled peach Pork Chop
DESCRIPTION:Fresh garden salad \nA crisp spring mix lettuce topped with cherry tomatoes\, sliced red onions\, crunchy cucumbers all tossed in a creamy comeback dressing \nGrilled bone in pork chop \nGrilled Bone-in pork chop grilled to desired temperature\, topped with an apple glaze and fresh herbs. \nRosemary home fries \nFingerling potatoes tossed in MS olive oil\, seasoned with Farmers table cooking school cajun seasoning. \nGarlic confit string beans \nString beans tossed with olive oil\, puree roasted garlic and salt and pepper. \nCast iron apple pie \nApple pie cooked in a cast iron skillet topped with an apple reduction and topped with a spiced whipped cream
URL:https://farmerstableinlivingston.com/class/braised-apple-pork-chop-10-23-25/
END:VEVENT
END:VCALENDAR