BEGIN:VCALENDAR
VERSION:2.0
PRODID:-//Farmers Table in Livingston - ECPv6.2.8.1//NONSGML v1.0//EN
CALSCALE:GREGORIAN
METHOD:PUBLISH
X-WR-CALNAME:Farmers Table in Livingston
X-ORIGINAL-URL:https://farmerstableinlivingston.com
X-WR-CALDESC:Events for Farmers Table in Livingston
REFRESH-INTERVAL;VALUE=DURATION:PT1H
X-Robots-Tag:noindex
X-PUBLISHED-TTL:PT1H
BEGIN:VTIMEZONE
TZID:America/Chicago
BEGIN:DAYLIGHT
TZOFFSETFROM:-0600
TZOFFSETTO:-0500
TZNAME:CDT
DTSTART:20250309T080000
END:DAYLIGHT
BEGIN:STANDARD
TZOFFSETFROM:-0500
TZOFFSETTO:-0600
TZNAME:CST
DTSTART:20251102T070000
END:STANDARD
END:VTIMEZONE
BEGIN:VEVENT
DTSTART;TZID=America/Chicago:20250903T180000
DTEND;TZID=America/Chicago:20250903T200000
DTSTAMP:20260421T125436
CREATED:20250813T214431Z
LAST-MODIFIED:20250826T190611Z
UID:62864-1756922400-1756929600@farmerstableinlivingston.com
SUMMARY:Tuscan Roasted Chicken Class - Tickets Available!
DESCRIPTION:Caprese SaladA timeless Italian starter featuring vine-ripened tomatoes\, fresh mozzarella\, and fragrant basil\, drizzled with extra virgin olive oil and a touch of balsamic glaze. \nTuscan Roasted Chicken with Garlic Smashed Potatoes and Green BeansChicken Thighs cooked in a creamy tuscan sauce with cherry tomatoes and spinach roasted to golden perfection\, served alongside rustic garlic smashed potatoes and tender green beans sautéed with garlic and olive oil—a comforting\, countryside-inspired entrée. \nApple Galette with Spiced Whipped CreamFlaky\, buttery pastry wrapped around tender spiced apples\, baked until golden and served with a dollop of cinnamon-vanilla whipped cream for a cozy\, seasonal dessert.
URL:https://farmerstableinlivingston.com/class/tuscan-roasted-chicken-class-tickets-available/
LOCATION:Farmer’s Table in Livingston\, 1030 Market Street\, Flora\, MS\, 39071\, United States
ATTACH;FMTTYPE=image/jpeg:https://farmerstableinlivingston.com/wp-content/uploads/2024/12/Tuscan-Chicken.jpg
ORGANIZER;CN="Jordan Carlin":MAILTO:jcarlin@farmerstableinlivingston.com
END:VEVENT
END:VCALENDAR