BEGIN:VCALENDAR
VERSION:2.0
PRODID:-//Farmers Table in Livingston - ECPv6.2.8.1//NONSGML v1.0//EN
CALSCALE:GREGORIAN
METHOD:PUBLISH
X-WR-CALNAME:Farmers Table in Livingston
X-ORIGINAL-URL:https://farmerstableinlivingston.com
X-WR-CALDESC:Events for Farmers Table in Livingston
REFRESH-INTERVAL;VALUE=DURATION:PT1H
X-Robots-Tag:noindex
X-PUBLISHED-TTL:PT1H
BEGIN:VTIMEZONE
TZID:America/Chicago
BEGIN:DAYLIGHT
TZOFFSETFROM:-0600
TZOFFSETTO:-0500
TZNAME:CDT
DTSTART:20250309T080000
END:DAYLIGHT
BEGIN:STANDARD
TZOFFSETFROM:-0500
TZOFFSETTO:-0600
TZNAME:CST
DTSTART:20251102T070000
END:STANDARD
END:VTIMEZONE
BEGIN:VEVENT
DTSTART;TZID=America/Chicago:20250514T180000
DTEND;TZID=America/Chicago:20250514T200000
DTSTAMP:20260424T121255
CREATED:20250325T213819Z
LAST-MODIFIED:20250514T143840Z
UID:61610-1747245600-1747252800@farmerstableinlivingston.com
SUMMARY:Night in India - Tickets Available!
DESCRIPTION:Vegetable PakoraCrispy\, golden fritters made with a blend of fresh vegetables\, lightly spiced and deep-fried to perfection \nTraditional Butter Chicken over Garlic Turmeric RiceTender pieces of chicken simmered in a rich\, creamy tomato-based sauce with aromatic spices\, served over fragrant garlic turmeric rice for a comforting and hearty main dish. \nHomemade Naan Bread on the GrillWarm\, pillowy naan bread\, freshly baked on the grill for a slight char and delicious smokiness\, perfect for dipping or enjoying alongside your meal. \nMasala Chai Cookies with Ice CreamSpiced masala chai cookies with hints of cinnamon\, cardamom\, and ginger\, paired with a scoop of creamy ice cream for a perfect balance of warmth and sweetness to end your meal.
URL:https://farmerstableinlivingston.com/class/night-in-india-tickets-available-3/
LOCATION:Farmer’s Table in Livingston\, 1030 Market Street\, Flora\, MS\, 39071\, United States
ATTACH;FMTTYPE=image/jpeg:https://farmerstableinlivingston.com/wp-content/uploads/2024/09/butter-chicken.jpg
ORGANIZER;CN="Jordan Carlin":MAILTO:jcarlin@farmerstableinlivingston.com
END:VEVENT
END:VCALENDAR