BEGIN:VCALENDAR
VERSION:2.0
PRODID:-//Farmers Table in Livingston - ECPv6.2.8.1//NONSGML v1.0//EN
CALSCALE:GREGORIAN
METHOD:PUBLISH
X-WR-CALNAME:Farmers Table in Livingston
X-ORIGINAL-URL:https://farmerstableinlivingston.com
X-WR-CALDESC:Events for Farmers Table in Livingston
REFRESH-INTERVAL;VALUE=DURATION:PT1H
X-Robots-Tag:noindex
X-PUBLISHED-TTL:PT1H
BEGIN:VTIMEZONE
TZID:America/Chicago
BEGIN:DAYLIGHT
TZOFFSETFROM:-0600
TZOFFSETTO:-0500
TZNAME:CDT
DTSTART:20250309T080000
END:DAYLIGHT
BEGIN:STANDARD
TZOFFSETFROM:-0500
TZOFFSETTO:-0600
TZNAME:CST
DTSTART:20251102T070000
END:STANDARD
END:VTIMEZONE
BEGIN:VEVENT
DTSTART;TZID=America/Chicago:20250328T120000
DTEND;TZID=America/Chicago:20250328T140000
DTSTAMP:20260420T035205
CREATED:20250328T181623Z
LAST-MODIFIED:20250328T181759Z
UID:61648-1743163200-1743170400@farmerstableinlivingston.com
SUMMARY:Southern Surgical
DESCRIPTION:
URL:https://farmerstableinlivingston.com/class/southern-surgical/
END:VEVENT
BEGIN:VEVENT
DTSTART;TZID=America/Chicago:20250328T180000
DTEND;TZID=America/Chicago:20250328T200000
DTSTAMP:20260420T035205
CREATED:20241221T185821Z
LAST-MODIFIED:20250123T213804Z
UID:60244-1743184800-1743192000@farmerstableinlivingston.com
SUMMARY:Seafood Paella Class
DESCRIPTION:Pan con Tomate\nA simple yet flavorful Spanish classic\, featuring toasted slices of rustic bread rubbed with ripe tomatoes\, drizzled with extra virgin olive oil\, and finished with a sprinkle of sea salt and fresh basil. A bright\, delicious start to your meal. \nSeafood Paella with Shrimp\, Mussels\, and Clams\nA traditional Spanish paella brimming with succulent shrimp\, tender mussels\, and fresh clams\, all simmered with aromatic saffron rice\, bell peppers\, peas\, and tomatoes. This hearty dish is infused with the bold\, savory flavors of the sea and seasoned to perfection. \nChurros con Chocolate\nGolden\, crispy churros dusted with cinnamon sugar\, served alongside a rich and velvety chocolate dipping sauce. A sweet\, indulgent treat that provides the perfect finish to your meal. \nA vibrant and flavorful menu that brings the best of Spanish cuisine to your table\, from the light and refreshing starter to the hearty seafood main and a sweet\, irresistible dessert.
URL:https://farmerstableinlivingston.com/class/seafood-paella-class-tickets-available-3/
LOCATION:Farmer’s Table in Livingston\, 1030 Market Street\, Flora\, MS\, 39071\, United States
ATTACH;FMTTYPE=image/jpeg:https://farmerstableinlivingston.com/wp-content/uploads/2023/04/seafood-paella-d41fe46.jpg
ORGANIZER;CN="Jordan Carlin":MAILTO:jcarlin@farmerstableinlivingston.com
END:VEVENT
END:VCALENDAR