BEGIN:VCALENDAR
VERSION:2.0
PRODID:-//Farmers Table in Livingston - ECPv6.2.8.1//NONSGML v1.0//EN
CALSCALE:GREGORIAN
METHOD:PUBLISH
X-ORIGINAL-URL:https://farmerstableinlivingston.com
X-WR-CALDESC:Events for Farmers Table in Livingston
REFRESH-INTERVAL;VALUE=DURATION:PT1H
X-Robots-Tag:noindex
X-PUBLISHED-TTL:PT1H
BEGIN:VTIMEZONE
TZID:America/Chicago
BEGIN:DAYLIGHT
TZOFFSETFROM:-0600
TZOFFSETTO:-0500
TZNAME:CDT
DTSTART:20250309T080000
END:DAYLIGHT
BEGIN:STANDARD
TZOFFSETFROM:-0500
TZOFFSETTO:-0600
TZNAME:CST
DTSTART:20251102T070000
END:STANDARD
END:VTIMEZONE
BEGIN:VEVENT
DTSTART;TZID=America/Chicago:20250214T180000
DTEND;TZID=America/Chicago:20250214T200000
DTSTAMP:20260421T174218
CREATED:20241228T003955Z
LAST-MODIFIED:20250119T004052Z
UID:60352-1739556000-1739563200@farmerstableinlivingston.com
SUMMARY:Valentine's Date Night - Sold Out
DESCRIPTION:Champagne Toast with Appetizer \n‘Don’t Go Bacon My Heart’ – Spinach and Romaine Salad with Sliced Honey Crisp Apples\, Bacon\, Chopped Pecans\, Blue Cheese Crumbles\, and Dried Cranberries in a Warm Bacon Vinaigrette \n‘You are Shrimply the Best’ Skewers over a Grilled 8oz Filet alongside Asparagus Risotto with a Spiced Beetroot Puree \nStrawberry Champagne Sorbet with Homemade Truffles \nHomemade sangria\, wine and beer !
URL:https://farmerstableinlivingston.com/class/valentine-date-night-4/
ATTACH;FMTTYPE=image/jpeg:https://farmerstableinlivingston.com/wp-content/uploads/2024/12/valentines-day.jpg
END:VEVENT
END:VCALENDAR