BEGIN:VCALENDAR
VERSION:2.0
PRODID:-//Farmers Table in Livingston - ECPv6.2.8.1//NONSGML v1.0//EN
CALSCALE:GREGORIAN
METHOD:PUBLISH
X-WR-CALNAME:Farmers Table in Livingston
X-ORIGINAL-URL:https://farmerstableinlivingston.com
X-WR-CALDESC:Events for Farmers Table in Livingston
REFRESH-INTERVAL;VALUE=DURATION:PT1H
X-Robots-Tag:noindex
X-PUBLISHED-TTL:PT1H
BEGIN:VTIMEZONE
TZID:America/Chicago
BEGIN:DAYLIGHT
TZOFFSETFROM:-0600
TZOFFSETTO:-0500
TZNAME:CDT
DTSTART:20240310T080000
END:DAYLIGHT
BEGIN:STANDARD
TZOFFSETFROM:-0500
TZOFFSETTO:-0600
TZNAME:CST
DTSTART:20241103T070000
END:STANDARD
END:VTIMEZONE
BEGIN:VEVENT
DTSTART;TZID=America/Chicago:20241130T120000
DTEND;TZID=America/Chicago:20241130T140000
DTSTAMP:20260422T215443
CREATED:20240523T155224Z
LAST-MODIFIED:20241121T011636Z
UID:58107-1732968000-1732975200@farmerstableinlivingston.com
SUMMARY:Gingerbread Class- Sold Out
DESCRIPTION:Start a Holiday Tradition at the Farmers Table in Livingston! Come sip on hot chocolate and create your very own gingerbread house. \nYou may drop your child off (7 years and up) and get some shopping done or stay and build with your child. \n  \nWe will wrap your house up for you take home.
URL:https://farmerstableinlivingston.com/class/gingerbread-class/
ATTACH;FMTTYPE=image/jpeg:https://farmerstableinlivingston.com/wp-content/uploads/2023/10/gingerbread-house.jpg
END:VEVENT
END:VCALENDAR