BEGIN:VCALENDAR
VERSION:2.0
PRODID:-//Farmers Table in Livingston - ECPv6.2.8.1//NONSGML v1.0//EN
CALSCALE:GREGORIAN
METHOD:PUBLISH
X-ORIGINAL-URL:https://farmerstableinlivingston.com
X-WR-CALDESC:Events for Farmers Table in Livingston
REFRESH-INTERVAL;VALUE=DURATION:PT1H
X-Robots-Tag:noindex
X-PUBLISHED-TTL:PT1H
BEGIN:VTIMEZONE
TZID:America/Chicago
BEGIN:DAYLIGHT
TZOFFSETFROM:-0600
TZOFFSETTO:-0500
TZNAME:CDT
DTSTART:20240310T080000
END:DAYLIGHT
BEGIN:STANDARD
TZOFFSETFROM:-0500
TZOFFSETTO:-0600
TZNAME:CST
DTSTART:20241103T070000
END:STANDARD
END:VTIMEZONE
BEGIN:VEVENT
DTSTART;TZID=America/Chicago:20240713T113000
DTEND;TZID=America/Chicago:20240713T133000
DTSTAMP:20260424T125710
CREATED:20240521T212844Z
LAST-MODIFIED:20240708T155251Z
UID:58055-1720870200-1720877400@farmerstableinlivingston.com
SUMMARY:Omelet Brunch Class - Tickets Available!
DESCRIPTION:Build your own Omelet! – Learn how to make the perfect omelet with your choice of toppings \nHomemade Buttermilk Biscuits \nBell Pepper Potato Hash \nBlueberry Crisp with Homemade Whipped Cream \nComplimentary Mimosa Bar!
URL:https://farmerstableinlivingston.com/class/omelet-brunch-class-tickets-available-7-13-24/
LOCATION:Farmer’s Table in Livingston\, 1030 Market Street\, Flora\, MS\, 39071\, United States
ATTACH;FMTTYPE=image/jpeg:https://farmerstableinlivingston.com/wp-content/uploads/2024/03/omelet.jpg
ORGANIZER;CN="Jordan Carlin":MAILTO:jcarlin@farmerstableinlivingston.com
END:VEVENT
BEGIN:VEVENT
DTSTART;TZID=America/Chicago:20240713T173000
DTEND;TZID=America/Chicago:20240713T193000
DTSTAMP:20260424T125710
CREATED:20240611T202438Z
LAST-MODIFIED:20240706T164333Z
UID:58354-1720891800-1720899000@farmerstableinlivingston.com
SUMMARY:Soy Glazed Salmon Class- Sold Out
DESCRIPTION:Apple and Goat Cheese Salad – Spring Mix\, Green Apples\, Red Onion\, Dried Cranberries\, and Goat Cheese tossed with a Honey Balsamic Vinaigrette \nSoy Glazed Salmon over Fluffy Jasmine Rice and Sweet Chili Brussels Sprouts \nBlueberry Crisp with Lemon Ice Cream
URL:https://farmerstableinlivingston.com/class/soy-glazed-salmon-class/
END:VEVENT
END:VCALENDAR