BEGIN:VCALENDAR
VERSION:2.0
PRODID:-//Farmers Table in Livingston - ECPv6.2.8.1//NONSGML v1.0//EN
CALSCALE:GREGORIAN
METHOD:PUBLISH
X-WR-CALNAME:Farmers Table in Livingston
X-ORIGINAL-URL:https://farmerstableinlivingston.com
X-WR-CALDESC:Events for Farmers Table in Livingston
REFRESH-INTERVAL;VALUE=DURATION:PT1H
X-Robots-Tag:noindex
X-PUBLISHED-TTL:PT1H
BEGIN:VTIMEZONE
TZID:America/Chicago
BEGIN:DAYLIGHT
TZOFFSETFROM:-0600
TZOFFSETTO:-0500
TZNAME:CDT
DTSTART:20230312T080000
END:DAYLIGHT
BEGIN:STANDARD
TZOFFSETFROM:-0500
TZOFFSETTO:-0600
TZNAME:CST
DTSTART:20231105T070000
END:STANDARD
END:VTIMEZONE
BEGIN:VEVENT
DTSTART;TZID=America/Chicago:20231111T113000
DTEND;TZID=America/Chicago:20231111T133000
DTSTAMP:20260420T140017
CREATED:20231014T172735Z
LAST-MODIFIED:20231106T180839Z
UID:55632-1699702200-1699709400@farmerstableinlivingston.com
SUMMARY:Biscuits and Gravy Class - Tickets Available!
DESCRIPTION:Bacon and Cheese Frittata \nHomemade Biscuits and Sausage Gravy over Bell Pepper Potato Hash \nApple Crisp with Vanilla Ice Cream \nMimosas
URL:https://farmerstableinlivingston.com/class/biscuits-and-gravy-class-tickets-available/
LOCATION:Farmer’s Table in Livingston\, 1030 Market Street\, Flora\, MS\, 39071\, United States
ATTACH;FMTTYPE=image/jpeg:https://farmerstableinlivingston.com/wp-content/uploads/2023/09/biscuits-and-gravy.jpg
ORGANIZER;CN="Jordan Carlin":MAILTO:jcarlin@farmerstableinlivingston.com
END:VEVENT
BEGIN:VEVENT
DTSTART;TZID=America/Chicago:20231111T170000
DTEND;TZID=America/Chicago:20231111T170000
DTSTAMP:20260420T140017
CREATED:20231107T224554Z
LAST-MODIFIED:20231107T224554Z
UID:55912-1699722000-1699722000@farmerstableinlivingston.com
SUMMARY:Catering Pickup
DESCRIPTION:Charcuterie Board Pickup
URL:https://farmerstableinlivingston.com/class/catering-pickup/
END:VEVENT
BEGIN:VEVENT
DTSTART;TZID=America/Chicago:20231111T173000
DTEND;TZID=America/Chicago:20231111T193000
DTSTAMP:20260420T140017
CREATED:20231014T184747Z
LAST-MODIFIED:20231014T184747Z
UID:55635-1699723800-1699731000@farmerstableinlivingston.com
SUMMARY:Steak Frites Class - Tickets Available!
DESCRIPTION:Fiesta Salad with Fire Roasted Corn\, Cherry Tomatoes\, Red Onion and Cheese tossed in a Cilantro Lime Vinaigrette \nGrilled Marinated Flank Steak alongside Parmesan Truffle Fries and topped with Chimichurri Sauce \nTraditional Tres Leches Cake with Homemade Whipped Cream
URL:https://farmerstableinlivingston.com/class/steak-frites-class-tickets-available-2/
LOCATION:Farmer’s Table in Livingston\, 1030 Market Street\, Flora\, MS\, 39071\, United States
ATTACH;FMTTYPE=image/jpeg:https://farmerstableinlivingston.com/wp-content/uploads/2023/10/Steak-Frites.jpg
ORGANIZER;CN="Jordan Carlin":MAILTO:jcarlin@farmerstableinlivingston.com
END:VEVENT
END:VCALENDAR