BEGIN:VCALENDAR
VERSION:2.0
PRODID:-//Farmers Table in Livingston - ECPv6.2.8.1//NONSGML v1.0//EN
CALSCALE:GREGORIAN
METHOD:PUBLISH
X-WR-CALNAME:Farmers Table in Livingston
X-ORIGINAL-URL:https://farmerstableinlivingston.com
X-WR-CALDESC:Events for Farmers Table in Livingston
REFRESH-INTERVAL;VALUE=DURATION:PT1H
X-Robots-Tag:noindex
X-PUBLISHED-TTL:PT1H
BEGIN:VTIMEZONE
TZID:America/Chicago
BEGIN:DAYLIGHT
TZOFFSETFROM:-0600
TZOFFSETTO:-0500
TZNAME:CDT
DTSTART:20230312T080000
END:DAYLIGHT
BEGIN:STANDARD
TZOFFSETFROM:-0500
TZOFFSETTO:-0600
TZNAME:CST
DTSTART:20231105T070000
END:STANDARD
END:VTIMEZONE
BEGIN:VEVENT
DTSTART;TZID=America/Chicago:20231007T113000
DTEND;TZID=America/Chicago:20231007T133000
DTSTAMP:20260422T054806
CREATED:20230920T170442Z
LAST-MODIFIED:20231004T171403Z
UID:55422-1696678200-1696685400@farmerstableinlivingston.com
SUMMARY:Biscuit and Gravy Class - Tickets Available!
DESCRIPTION:Bacon and Cheese Frittata \nHomemade Biscuits and Sausage Gravy over  Bell Pepper Potato Hash \nBlueberry Crumble with Vanilla Ice Cream
URL:https://farmerstableinlivingston.com/class/biscuit-and-gravy-class-tickets-available/
LOCATION:Farmer’s Table in Livingston\, 1030 Market Street\, Flora\, MS\, 39071\, United States
ATTACH;FMTTYPE=image/jpeg:https://farmerstableinlivingston.com/wp-content/uploads/2023/09/biscuits-and-gravy.jpg
ORGANIZER;CN="Jordan Carlin":MAILTO:jcarlin@farmerstableinlivingston.com
END:VEVENT
BEGIN:VEVENT
DTSTART;TZID=America/Chicago:20231007T173000
DTEND;TZID=America/Chicago:20231007T193000
DTSTAMP:20260422T054806
CREATED:20230915T183432Z
LAST-MODIFIED:20231005T170208Z
UID:55387-1696699800-1696707000@farmerstableinlivingston.com
SUMMARY:Pan Seared Grouper Class - Tickets Available!
DESCRIPTION:Corn and Avocado Salad \nPan Seared Grouper over Red Pepper Risotto with Garlic Roasted Asparagus \nCreme Brûlée with Fresh Berries
URL:https://farmerstableinlivingston.com/class/pan-seared-grouper/
LOCATION:Farmer’s Table in Livingston\, 1030 Market Street\, Flora\, MS\, 39071\, United States
ATTACH;FMTTYPE=image/jpeg:https://farmerstableinlivingston.com/wp-content/uploads/2023/09/grouper.jpg
END:VEVENT
END:VCALENDAR