BEGIN:VCALENDAR
VERSION:2.0
PRODID:-//Farmers Table in Livingston - ECPv6.2.8.1//NONSGML v1.0//EN
CALSCALE:GREGORIAN
METHOD:PUBLISH
X-WR-CALNAME:Farmers Table in Livingston
X-ORIGINAL-URL:https://farmerstableinlivingston.com
X-WR-CALDESC:Events for Farmers Table in Livingston
REFRESH-INTERVAL;VALUE=DURATION:PT1H
X-Robots-Tag:noindex
X-PUBLISHED-TTL:PT1H
BEGIN:VTIMEZONE
TZID:America/Chicago
BEGIN:DAYLIGHT
TZOFFSETFROM:-0600
TZOFFSETTO:-0500
TZNAME:CDT
DTSTART:20230312T080000
END:DAYLIGHT
BEGIN:STANDARD
TZOFFSETFROM:-0500
TZOFFSETTO:-0600
TZNAME:CST
DTSTART:20231105T070000
END:STANDARD
END:VTIMEZONE
BEGIN:VEVENT
DTSTART;TZID=America/Chicago:20231006T180000
DTEND;TZID=America/Chicago:20231006T200000
DTSTAMP:20260420T080506
CREATED:20230816T195619Z
LAST-MODIFIED:20231005T164457Z
UID:55067-1696615200-1696622400@farmerstableinlivingston.com
SUMMARY:Grilled Filet Medallion Class - Tickets Available!
DESCRIPTION:Italian Salad – Olives\, Cherry Tomatoes\, Red Onions\, Croutons\, Parmesan Cheese and Italian Dressing tossed with Crisp Romaine Lettuce \nTwo 4 Ounce Filet Medallions topped in a Lobster Bearnaise Sauce over Garlic Asparagus and Duchess Potatoes \nBourbon Bread Pudding
URL:https://farmerstableinlivingston.com/class/grilled-filet-medallion-class-tickets-available/
LOCATION:Farmer’s Table in Livingston\, 1030 Market Street\, Flora\, MS\, 39071\, United States
ATTACH;FMTTYPE=image/jpeg:https://farmerstableinlivingston.com/wp-content/uploads/2023/08/filet-medallion.jpg
ORGANIZER;CN="Jordan Carlin":MAILTO:jcarlin@farmerstableinlivingston.com
END:VEVENT
END:VCALENDAR