BEGIN:VCALENDAR
VERSION:2.0
PRODID:-//Farmers Table in Livingston - ECPv6.2.8.1//NONSGML v1.0//EN
CALSCALE:GREGORIAN
METHOD:PUBLISH
X-ORIGINAL-URL:https://farmerstableinlivingston.com
X-WR-CALDESC:Events for Farmers Table in Livingston
REFRESH-INTERVAL;VALUE=DURATION:PT1H
X-Robots-Tag:noindex
X-PUBLISHED-TTL:PT1H
BEGIN:VTIMEZONE
TZID:America/Chicago
BEGIN:DAYLIGHT
TZOFFSETFROM:-0600
TZOFFSETTO:-0500
TZNAME:CDT
DTSTART:20230312T080000
END:DAYLIGHT
BEGIN:STANDARD
TZOFFSETFROM:-0500
TZOFFSETTO:-0600
TZNAME:CST
DTSTART:20231105T070000
END:STANDARD
END:VTIMEZONE
BEGIN:VEVENT
DTSTART;TZID=America/Chicago:20230929T180000
DTEND;TZID=America/Chicago:20230929T200000
DTSTAMP:20260424T035538
CREATED:20230926T171044Z
LAST-MODIFIED:20230929T163911Z
UID:55476-1696010400-1696017600@farmerstableinlivingston.com
SUMMARY:Grilled Rib Eye Class
DESCRIPTION:Farm Salad with Butter Bibb Lettuce and Green Goddess Dressing \nGrilled Ribeye Topped with Compound Butter over Honey Garlic Carrots and Roasted  Herbed Potatoes \nHomemade apple Skillet Pie with Homemade Vanilla Ice Cream
URL:https://farmerstableinlivingston.com/class/grilled-rib-eye-class-tickets-available/
LOCATION:Farmer’s Table in Livingston\, 1030 Market Street\, Flora\, MS\, 39071\, United States
ORGANIZER;CN="Jordan Carlin":MAILTO:jcarlin@farmerstableinlivingston.com
END:VEVENT
END:VCALENDAR