BEGIN:VCALENDAR
VERSION:2.0
PRODID:-//Farmers Table in Livingston - ECPv6.2.8.1//NONSGML v1.0//EN
CALSCALE:GREGORIAN
METHOD:PUBLISH
X-WR-CALNAME:Farmers Table in Livingston
X-ORIGINAL-URL:https://farmerstableinlivingston.com
X-WR-CALDESC:Events for Farmers Table in Livingston
REFRESH-INTERVAL;VALUE=DURATION:PT1H
X-Robots-Tag:noindex
X-PUBLISHED-TTL:PT1H
BEGIN:VTIMEZONE
TZID:America/Chicago
BEGIN:DAYLIGHT
TZOFFSETFROM:-0600
TZOFFSETTO:-0500
TZNAME:CDT
DTSTART:20230312T080000
END:DAYLIGHT
BEGIN:STANDARD
TZOFFSETFROM:-0500
TZOFFSETTO:-0600
TZNAME:CST
DTSTART:20231105T070000
END:STANDARD
END:VTIMEZONE
BEGIN:VEVENT
DTSTART;TZID=America/Chicago:20230923T173000
DTEND;TZID=America/Chicago:20230923T193000
DTSTAMP:20260425T084823
CREATED:20230820T033757Z
LAST-MODIFIED:20230820T033757Z
UID:55130-1695490200-1695497400@farmerstableinlivingston.com
SUMMARY:Prime Rib Class - Tickets Available!
DESCRIPTION:Grilled Caesar Salad with Homemade Croutons \nSlow Roasted Prime Rib with Au Jus and Creamy Horseradish served alongside Garlic Smashed Potatoes and Bacon Wrapped Green Beans \nCast Iron Apple Pie with Vanilla Ice Cream
URL:https://farmerstableinlivingston.com/class/prime-rib-class-tickets-available-2/
LOCATION:Farmer’s Table in Livingston\, 1030 Market Street\, Flora\, MS\, 39071\, United States
ATTACH;FMTTYPE=image/jpeg:https://farmerstableinlivingston.com/wp-content/uploads/2023/08/prime-rib.jpg
ORGANIZER;CN="Jordan Carlin":MAILTO:jcarlin@farmerstableinlivingston.com
END:VEVENT
END:VCALENDAR