BEGIN:VCALENDAR
VERSION:2.0
PRODID:-//Farmers Table in Livingston - ECPv6.2.8.1//NONSGML v1.0//EN
CALSCALE:GREGORIAN
METHOD:PUBLISH
X-WR-CALNAME:Farmers Table in Livingston
X-ORIGINAL-URL:https://farmerstableinlivingston.com
X-WR-CALDESC:Events for Farmers Table in Livingston
REFRESH-INTERVAL;VALUE=DURATION:PT1H
X-Robots-Tag:noindex
X-PUBLISHED-TTL:PT1H
BEGIN:VTIMEZONE
TZID:America/Chicago
BEGIN:DAYLIGHT
TZOFFSETFROM:-0600
TZOFFSETTO:-0500
TZNAME:CDT
DTSTART:20230312T080000
END:DAYLIGHT
BEGIN:STANDARD
TZOFFSETFROM:-0500
TZOFFSETTO:-0600
TZNAME:CST
DTSTART:20231105T070000
END:STANDARD
END:VTIMEZONE
BEGIN:VEVENT
DTSTART;TZID=America/Chicago:20230916T110000
DTEND;TZID=America/Chicago:20230916T130000
DTSTAMP:20260424T063805
CREATED:20230819T202223Z
LAST-MODIFIED:20230819T202223Z
UID:55118-1694862000-1694869200@farmerstableinlivingston.com
SUMMARY:Chicken and Waffle Brunch - Tickets Available!
DESCRIPTION:Tomato and Spinach Frittata \nCrispy Fried Chicken Thighs over a Cornbread Cheddar Waffle drizzled in Spicy Maple Syrup Served with a Bell Pepper Potato Hash \nWarm Apple Crisp with Vanilla Ice Cream
URL:https://farmerstableinlivingston.com/class/chicken-and-waffle-brunch-tickets-available/
LOCATION:Farmer’s Table in Livingston\, 1030 Market Street\, Flora\, MS\, 39071\, United States
ATTACH;FMTTYPE=image/jpeg:https://farmerstableinlivingston.com/wp-content/uploads/2023/07/IMG_5336.jpg
ORGANIZER;CN="Jordan Carlin":MAILTO:jcarlin@farmerstableinlivingston.com
END:VEVENT
BEGIN:VEVENT
DTSTART;TZID=America/Chicago:20230916T173000
DTEND;TZID=America/Chicago:20230916T193000
DTSTAMP:20260424T063805
CREATED:20230819T203956Z
LAST-MODIFIED:20230916T190806Z
UID:55123-1694885400-1694892600@farmerstableinlivingston.com
SUMMARY:Japanese Hibachi Class
DESCRIPTION:Ginger Salad – Iceberg Lettuce\, Red Cabbage\, Carrots and a Fresh Ginger Dressing \nHibachi Style Steak and Shrimp with Veggies over Fried Rice and Yum Yum Sauce \nGreen Tea Ice Cream and a Sesame Seed Cookie
URL:https://farmerstableinlivingston.com/class/japanese-hibachi-class-tickets-available/
LOCATION:Farmer’s Table in Livingston\, 1030 Market Street\, Flora\, MS\, 39071\, United States
ATTACH;FMTTYPE=image/jpeg:https://farmerstableinlivingston.com/wp-content/uploads/2023/08/Hibachi-Steak.jpg
ORGANIZER;CN="Jordan Carlin":MAILTO:jcarlin@farmerstableinlivingston.com
END:VEVENT
END:VCALENDAR