BEGIN:VCALENDAR
VERSION:2.0
PRODID:-//Farmers Table in Livingston - ECPv6.2.8.1//NONSGML v1.0//EN
CALSCALE:GREGORIAN
METHOD:PUBLISH
X-ORIGINAL-URL:https://farmerstableinlivingston.com
X-WR-CALDESC:Events for Farmers Table in Livingston
REFRESH-INTERVAL;VALUE=DURATION:PT1H
X-Robots-Tag:noindex
X-PUBLISHED-TTL:PT1H
BEGIN:VTIMEZONE
TZID:America/Chicago
BEGIN:DAYLIGHT
TZOFFSETFROM:-0600
TZOFFSETTO:-0500
TZNAME:CDT
DTSTART:20230312T080000
END:DAYLIGHT
BEGIN:STANDARD
TZOFFSETFROM:-0500
TZOFFSETTO:-0600
TZNAME:CST
DTSTART:20231105T070000
END:STANDARD
END:VTIMEZONE
BEGIN:VEVENT
DTSTART;TZID=America/Chicago:20230909T120000
DTEND;TZID=America/Chicago:20230909T130000
DTSTAMP:20260420T170759
CREATED:20230907T194141Z
LAST-MODIFIED:20230907T194141Z
UID:55304-1694260800-1694264400@farmerstableinlivingston.com
SUMMARY:Catering Pick Up
DESCRIPTION:
URL:https://farmerstableinlivingston.com/class/catering-pick-up-3/
END:VEVENT
BEGIN:VEVENT
DTSTART;TZID=America/Chicago:20230909T180000
DTEND;TZID=America/Chicago:20230909T200000
DTSTAMP:20260420T170759
CREATED:20230819T174558Z
LAST-MODIFIED:20230819T174558Z
UID:55103-1694282400-1694289600@farmerstableinlivingston.com
SUMMARY:Thai Night - Tickets Available!
DESCRIPTION:Chicken Lettuce Wraps with Sweet Chili Sauce \nThai Beef Noodles – Diced Filet Mignon\, Bok Choy\, Thai Basil\, Peppers\, Carrots\, and Ginger in a Pad Thai Sauce \nHomemade Coconut Ice Cream and Diced Mango
URL:https://farmerstableinlivingston.com/class/thai-night-tickets-available/
LOCATION:Farmer’s Table in Livingston\, 1030 Market Street\, Flora\, MS\, 39071\, United States
ATTACH;FMTTYPE=image/jpeg:https://farmerstableinlivingston.com/wp-content/uploads/2023/08/Thai-Beef-Noodle.jpg
ORGANIZER;CN="Jordan Carlin":MAILTO:jcarlin@farmerstableinlivingston.com
END:VEVENT
END:VCALENDAR