BEGIN:VCALENDAR
VERSION:2.0
PRODID:-//Farmers Table in Livingston - ECPv6.2.8.1//NONSGML v1.0//EN
CALSCALE:GREGORIAN
METHOD:PUBLISH
X-ORIGINAL-URL:https://farmerstableinlivingston.com
X-WR-CALDESC:Events for Farmers Table in Livingston
REFRESH-INTERVAL;VALUE=DURATION:PT1H
X-Robots-Tag:noindex
X-PUBLISHED-TTL:PT1H
BEGIN:VTIMEZONE
TZID:America/Chicago
BEGIN:DAYLIGHT
TZOFFSETFROM:-0600
TZOFFSETTO:-0500
TZNAME:CDT
DTSTART:20230312T080000
END:DAYLIGHT
BEGIN:STANDARD
TZOFFSETFROM:-0500
TZOFFSETTO:-0600
TZNAME:CST
DTSTART:20231105T070000
END:STANDARD
END:VTIMEZONE
BEGIN:VEVENT
DTSTART;TZID=America/Chicago:20230906T180000
DTEND;TZID=America/Chicago:20230906T200000
DTSTAMP:20260424T045026
CREATED:20230809T200849Z
LAST-MODIFIED:20230905T234132Z
UID:55010-1694023200-1694030400@farmerstableinlivingston.com
SUMMARY:Chicken Marsala Class - Sold Out!
DESCRIPTION:Traditional Caesar Salad with Homemade Garlic Herbed Croutons \nPan Seared Chicken Breasts over Fresh Fettuccini Pasta in a Creamy Mushroom Marsala Sauce served alongside Parmesan Asparagus \nCreme Brûlée with Fresh Berries \n 
URL:https://farmerstableinlivingston.com/class/chicken-marsala-class-tickets-available/
LOCATION:Farmer’s Table in Livingston\, 1030 Market Street\, Flora\, MS\, 39071\, United States
ORGANIZER;CN="Jordan Carlin":MAILTO:jcarlin@farmerstableinlivingston.com
END:VEVENT
END:VCALENDAR