BEGIN:VCALENDAR
VERSION:2.0
PRODID:-//Farmers Table in Livingston - ECPv6.2.8.1//NONSGML v1.0//EN
CALSCALE:GREGORIAN
METHOD:PUBLISH
X-ORIGINAL-URL:https://farmerstableinlivingston.com
X-WR-CALDESC:Events for Farmers Table in Livingston
REFRESH-INTERVAL;VALUE=DURATION:PT1H
X-Robots-Tag:noindex
X-PUBLISHED-TTL:PT1H
BEGIN:VTIMEZONE
TZID:America/Chicago
BEGIN:DAYLIGHT
TZOFFSETFROM:-0600
TZOFFSETTO:-0500
TZNAME:CDT
DTSTART:20230312T080000
END:DAYLIGHT
BEGIN:STANDARD
TZOFFSETFROM:-0500
TZOFFSETTO:-0600
TZNAME:CST
DTSTART:20231105T070000
END:STANDARD
END:VTIMEZONE
BEGIN:VEVENT
DTSTART;TZID=America/Chicago:20230722T113000
DTEND;TZID=America/Chicago:20230722T133000
DTSTAMP:20260423T054038
CREATED:20230713T134145Z
LAST-MODIFIED:20230721T182101Z
UID:54695-1690025400-1690032600@farmerstableinlivingston.com
SUMMARY:Brunch Class
DESCRIPTION:Mimosa and Wine served \nTomato and Spinach Frittata with Feta Cheese \nFried Chicken Thigh over a Cornbread Cheddar Waffle with Sweet and Spicy Maple Syrup \nBell Pepper Potato Hash and Crispy Hickory Bacon \nApple Crisp with Vanilla Ice Cream
URL:https://farmerstableinlivingston.com/class/brunch-class-tickets-available/
LOCATION:Farmer’s Table in Livingston\, 1030 Market Street\, Flora\, MS\, 39071\, United States
ORGANIZER;CN="Jordan Carlin":MAILTO:jcarlin@farmerstableinlivingston.com
END:VEVENT
BEGIN:VEVENT
DTSTART;TZID=America/Chicago:20230722T173000
DTEND;TZID=America/Chicago:20230722T193000
DTSTAMP:20260423T054038
CREATED:20230626T172204Z
LAST-MODIFIED:20230725T170927Z
UID:54466-1690047000-1690054200@farmerstableinlivingston.com
SUMMARY:Prime Rib Class - Sold Out!
DESCRIPTION:Fresh Garden Salad tossed in a  Green Goddess Dressing \nSlow Roasted Prime Rib with Au Jus and Creamy Horseradish served alongside Truffled Potatoes and Bacon Wrapped Green Beans \nWarm Apple Crisp with Vanilla Ice Cream
URL:https://farmerstableinlivingston.com/class/prime-rib-class-tickets-available/
LOCATION:Farmer’s Table in Livingston\, 1030 Market Street\, Flora\, MS\, 39071\, United States
ORGANIZER;CN="Jordan Carlin":MAILTO:jcarlin@farmerstableinlivingston.com
END:VEVENT
END:VCALENDAR