BEGIN:VCALENDAR
VERSION:2.0
PRODID:-//Farmers Table in Livingston - ECPv6.2.8.1//NONSGML v1.0//EN
CALSCALE:GREGORIAN
METHOD:PUBLISH
X-ORIGINAL-URL:https://farmerstableinlivingston.com
X-WR-CALDESC:Events for Farmers Table in Livingston
REFRESH-INTERVAL;VALUE=DURATION:PT1H
X-Robots-Tag:noindex
X-PUBLISHED-TTL:PT1H
BEGIN:VTIMEZONE
TZID:America/Chicago
BEGIN:DAYLIGHT
TZOFFSETFROM:-0600
TZOFFSETTO:-0500
TZNAME:CDT
DTSTART:20230312T080000
END:DAYLIGHT
BEGIN:STANDARD
TZOFFSETFROM:-0500
TZOFFSETTO:-0600
TZNAME:CST
DTSTART:20231105T070000
END:STANDARD
END:VTIMEZONE
BEGIN:VEVENT
DTSTART;TZID=America/Chicago:20230721T110000
DTEND;TZID=America/Chicago:20230721T130000
DTSTAMP:20260420T233715
CREATED:20230718T135538Z
LAST-MODIFIED:20230718T135731Z
UID:54756-1689937200-1689944400@farmerstableinlivingston.com
SUMMARY:JSU
DESCRIPTION:
URL:https://farmerstableinlivingston.com/class/jsu-2/
END:VEVENT
BEGIN:VEVENT
DTSTART;TZID=America/Chicago:20230721T180000
DTEND;TZID=America/Chicago:20230721T200000
DTSTAMP:20260420T233715
CREATED:20230614T161139Z
LAST-MODIFIED:20230720T152319Z
UID:54387-1689962400-1689969600@farmerstableinlivingston.com
SUMMARY:Soy Glazed Salmon Class  2- tickets available
DESCRIPTION:Citrus Salad with Mixed Greens\, Toasted Almonds\, Shaved Red Onion\, Goat Cheese\, and a Local Honey Poppyseed Vinaigrette \nSoy Glazed Salmon over Jasmine Rice and Garlic Roasted Broccoli \nBlueberry Crumble served with Lemon Ice Cream
URL:https://farmerstableinlivingston.com/class/soy-glazed-salmon-class-tickets-available/
LOCATION:Farmer’s Table in Livingston\, 1030 Market Street\, Flora\, MS\, 39071\, United States
ORGANIZER;CN="Jordan Carlin":MAILTO:jcarlin@farmerstableinlivingston.com
END:VEVENT
END:VCALENDAR