BEGIN:VCALENDAR
VERSION:2.0
PRODID:-//Farmers Table in Livingston - ECPv6.2.8.1//NONSGML v1.0//EN
CALSCALE:GREGORIAN
METHOD:PUBLISH
X-ORIGINAL-URL:https://farmerstableinlivingston.com
X-WR-CALDESC:Events for Farmers Table in Livingston
REFRESH-INTERVAL;VALUE=DURATION:PT1H
X-Robots-Tag:noindex
X-PUBLISHED-TTL:PT1H
BEGIN:VTIMEZONE
TZID:America/Chicago
BEGIN:DAYLIGHT
TZOFFSETFROM:-0600
TZOFFSETTO:-0500
TZNAME:CDT
DTSTART:20230312T080000
END:DAYLIGHT
BEGIN:STANDARD
TZOFFSETFROM:-0500
TZOFFSETTO:-0600
TZNAME:CST
DTSTART:20231105T070000
END:STANDARD
END:VTIMEZONE
BEGIN:VEVENT
DTSTART;TZID=America/Chicago:20230714T180000
DTEND;TZID=America/Chicago:20230714T200000
DTSTAMP:20260423T102304
CREATED:20230613T223319Z
LAST-MODIFIED:20230713T174649Z
UID:54383-1689357600-1689364800@farmerstableinlivingston.com
SUMMARY:Pan Seared Scallop Class -Sold Out
DESCRIPTION:Mixed Green Salad with Shaved Red Onion\, Granny Smith Apples\, and Goat Cheese with an Aged Balsamic Vinaigrette \nPan Seared Scallops over Green Pea and Bacon Risotto and Roasted Red Pepper Coulis \nLemon Trifle with Fresh Whipped Cream
URL:https://farmerstableinlivingston.com/class/pan-seared-scallop-class-tickets-available/
LOCATION:Farmer’s Table in Livingston\, 1030 Market Street\, Flora\, MS\, 39071\, United States
ORGANIZER;CN="Jordan Carlin":MAILTO:jcarlin@farmerstableinlivingston.com
END:VEVENT
END:VCALENDAR