BEGIN:VCALENDAR
VERSION:2.0
PRODID:-//Farmers Table in Livingston - ECPv6.2.8.1//NONSGML v1.0//EN
CALSCALE:GREGORIAN
METHOD:PUBLISH
X-ORIGINAL-URL:https://farmerstableinlivingston.com
X-WR-CALDESC:Events for Farmers Table in Livingston
REFRESH-INTERVAL;VALUE=DURATION:PT1H
X-Robots-Tag:noindex
X-PUBLISHED-TTL:PT1H
BEGIN:VTIMEZONE
TZID:America/Chicago
BEGIN:DAYLIGHT
TZOFFSETFROM:-0600
TZOFFSETTO:-0500
TZNAME:CDT
DTSTART:20220313T080000
END:DAYLIGHT
BEGIN:STANDARD
TZOFFSETFROM:-0500
TZOFFSETTO:-0600
TZNAME:CST
DTSTART:20221106T070000
END:STANDARD
END:VTIMEZONE
BEGIN:VEVENT
DTSTART;TZID=America/Chicago:20220128T180000
DTEND;TZID=America/Chicago:20220128T200000
DTSTAMP:20260419T195129
CREATED:20211123T030335Z
LAST-MODIFIED:20220128T221041Z
UID:49581-1643392800-1643400000@farmerstableinlivingston.com
SUMMARY:Veal Picatta 1/28/2022
DESCRIPTION:Spinach Salad with Sliced Strawberries\, Crumbled Goat Cheese\, Candied Nuts\, Baby Spinach\, Crispy Applewood Smoked Bacon Tossed with a Bacon Fat/Sherry Honey Vinaigrette \nVeal Picatta – Lightly Pan Fried Veal Scallopini served over Angel Hair Pasta and tossed with a Lemon Caper Butter Sauce served with Italian Bread \nLemon Curd Pie with Toasted Meringue Topping
URL:https://farmerstableinlivingston.com/class/veal-picatta-1-28-2022/
LOCATION:Farmer’s Table in Livingston\, 1030 Market Street\, Flora\, MS\, 39071\, United States
END:VEVENT
END:VCALENDAR