BEGIN:VCALENDAR
VERSION:2.0
PRODID:-//Farmers Table in Livingston - ECPv6.2.8.1//NONSGML v1.0//EN
CALSCALE:GREGORIAN
METHOD:PUBLISH
X-WR-CALNAME:Farmers Table in Livingston
X-ORIGINAL-URL:https://farmerstableinlivingston.com
X-WR-CALDESC:Events for Farmers Table in Livingston
REFRESH-INTERVAL;VALUE=DURATION:PT1H
X-Robots-Tag:noindex
X-PUBLISHED-TTL:PT1H
BEGIN:VTIMEZONE
TZID:America/Chicago
BEGIN:DAYLIGHT
TZOFFSETFROM:-0600
TZOFFSETTO:-0500
TZNAME:CDT
DTSTART:20210314T080000
END:DAYLIGHT
BEGIN:STANDARD
TZOFFSETFROM:-0500
TZOFFSETTO:-0600
TZNAME:CST
DTSTART:20211107T070000
END:STANDARD
END:VTIMEZONE
BEGIN:VEVENT
DTSTART;TZID=America/Chicago:20211223T110000
DTEND;TZID=America/Chicago:20211223T130000
DTSTAMP:20260423T104713
CREATED:20210513T155807Z
LAST-MODIFIED:20211220T182311Z
UID:48079-1640257200-1640264400@farmerstableinlivingston.com
SUMMARY:Debutante Lunch Class
DESCRIPTION:
URL:https://farmerstableinlivingston.com/class/debutante-lunch-class/
LOCATION:Farmer’s Table in Livingston\, 1030 Market Street\, Flora\, MS\, 39071\, United States
ORGANIZER;CN="Bridget Engle":MAILTO:bengle@farmerstableinlivingston.com
END:VEVENT
BEGIN:VEVENT
DTSTART;TZID=America/Chicago:20211223T150000
DTEND;TZID=America/Chicago:20211223T170000
DTSTAMP:20260423T104713
CREATED:20211130T233530Z
LAST-MODIFIED:20211130T233608Z
UID:49639-1640271600-1640278800@farmerstableinlivingston.com
SUMMARY:Catering
DESCRIPTION:
URL:https://farmerstableinlivingston.com/class/catering-55/
LOCATION:Farmer’s Table in Livingston\, 1030 Market Street\, Flora\, MS\, 39071\, United States
ORGANIZER;CN="Bridget Engle":MAILTO:bengle@farmerstableinlivingston.com
END:VEVENT
END:VCALENDAR