BEGIN:VCALENDAR
VERSION:2.0
PRODID:-//Farmers Table in Livingston - ECPv6.2.8.1//NONSGML v1.0//EN
CALSCALE:GREGORIAN
METHOD:PUBLISH
X-WR-CALNAME:Farmers Table in Livingston
X-ORIGINAL-URL:https://farmerstableinlivingston.com
X-WR-CALDESC:Events for Farmers Table in Livingston
REFRESH-INTERVAL;VALUE=DURATION:PT1H
X-Robots-Tag:noindex
X-PUBLISHED-TTL:PT1H
BEGIN:VTIMEZONE
TZID:America/Chicago
BEGIN:DAYLIGHT
TZOFFSETFROM:-0600
TZOFFSETTO:-0500
TZNAME:CDT
DTSTART:20210314T080000
END:DAYLIGHT
BEGIN:STANDARD
TZOFFSETFROM:-0500
TZOFFSETTO:-0600
TZNAME:CST
DTSTART:20211107T070000
END:STANDARD
END:VTIMEZONE
BEGIN:VEVENT
DTSTART;TZID=America/Chicago:20211218T120000
DTEND;TZID=America/Chicago:20211218T133000
DTSTAMP:20260420T235442
CREATED:20211109T192927Z
LAST-MODIFIED:20211109T193012Z
UID:49437-1639828800-1639834200@farmerstableinlivingston.com
SUMMARY:Private Gingerbread House Class
DESCRIPTION:
URL:https://farmerstableinlivingston.com/class/private-gingerbread-house-class-2/
LOCATION:Farmer’s Table in Livingston\, 1030 Market Street\, Flora\, MS\, 39071\, United States
ORGANIZER;CN="Bridget Engle":MAILTO:bengle@farmerstableinlivingston.com
END:VEVENT
BEGIN:VEVENT
DTSTART;TZID=America/Chicago:20211218T173000
DTEND;TZID=America/Chicago:20211218T193000
DTSTAMP:20260420T235442
CREATED:20211012T150636Z
LAST-MODIFIED:20211210T175243Z
UID:49240-1639848600-1639855800@farmerstableinlivingston.com
SUMMARY:Dry Aged Rib Eye Sold Out
DESCRIPTION:Pear and Toasted Pecan Salad served with Shaved White Cheddar Cheese\, Shaved Red Onions\, Sliced Pears\, Toasted Pecans over Baby Spinach and dressed with a Sweet Balsamic Vinaigrette \nDry Aged Prime RibEyes with Red wine Demi Glace with A Shrimp Skewer \nTruffle Yukon Potatoes \nCharred Broccolini \nCreme Brûlée with Fresh Berries
URL:https://farmerstableinlivingston.com/class/private-christmas-class-2/
LOCATION:Farmer’s Table in Livingston\, 1030 Market Street\, Flora\, MS\, 39071\, United States
ORGANIZER;CN="Bridget Engle":MAILTO:bengle@farmerstableinlivingston.com
END:VEVENT
END:VCALENDAR