BEGIN:VCALENDAR
VERSION:2.0
PRODID:-//Farmers Table in Livingston - ECPv6.2.8.1//NONSGML v1.0//EN
CALSCALE:GREGORIAN
METHOD:PUBLISH
X-WR-CALNAME:Farmers Table in Livingston
X-ORIGINAL-URL:https://farmerstableinlivingston.com
X-WR-CALDESC:Events for Farmers Table in Livingston
REFRESH-INTERVAL;VALUE=DURATION:PT1H
X-Robots-Tag:noindex
X-PUBLISHED-TTL:PT1H
BEGIN:VTIMEZONE
TZID:America/Chicago
BEGIN:DAYLIGHT
TZOFFSETFROM:-0600
TZOFFSETTO:-0500
TZNAME:CDT
DTSTART:20210314T080000
END:DAYLIGHT
BEGIN:STANDARD
TZOFFSETFROM:-0500
TZOFFSETTO:-0600
TZNAME:CST
DTSTART:20211107T070000
END:STANDARD
END:VTIMEZONE
BEGIN:VEVENT
DTSTART;TZID=America/Chicago:20211209T180000
DTEND;TZID=America/Chicago:20211209T200000
DTSTAMP:20260423T163010
CREATED:20210407T195300Z
LAST-MODIFIED:20211207T001313Z
UID:47742-1639072800-1639080000@farmerstableinlivingston.com
SUMMARY:Cast Iron Skillet Filets
DESCRIPTION:Cast Iron Skillet Filet Mignon served with a Rich Red Wine Demi Glace \none redfish \nField Greens with Pears\, Toasted Pecans and Lemon and Honey Vinaigrette \nParmesan Risotto \nPavlovas with Fresh Fruit and Mint\, And  a Chocolate  Sauce  \n 
URL:https://farmerstableinlivingston.com/class/capital-resources-2/
LOCATION:Farmer’s Table in Livingston\, 1030 Market Street\, Flora\, MS\, 39071\, United States
ORGANIZER;CN="Bridget Engle":MAILTO:bengle@farmerstableinlivingston.com
END:VEVENT
END:VCALENDAR