BEGIN:VCALENDAR
VERSION:2.0
PRODID:-//Farmers Table in Livingston - ECPv6.2.8.1//NONSGML v1.0//EN
CALSCALE:GREGORIAN
METHOD:PUBLISH
X-ORIGINAL-URL:https://farmerstableinlivingston.com
X-WR-CALDESC:Events for Farmers Table in Livingston
REFRESH-INTERVAL;VALUE=DURATION:PT1H
X-Robots-Tag:noindex
X-PUBLISHED-TTL:PT1H
BEGIN:VTIMEZONE
TZID:America/Chicago
BEGIN:DAYLIGHT
TZOFFSETFROM:-0600
TZOFFSETTO:-0500
TZNAME:CDT
DTSTART:20210314T080000
END:DAYLIGHT
BEGIN:STANDARD
TZOFFSETFROM:-0500
TZOFFSETTO:-0600
TZNAME:CST
DTSTART:20211107T070000
END:STANDARD
END:VTIMEZONE
BEGIN:VEVENT
DTSTART;TZID=America/Chicago:20210722T180000
DTEND;TZID=America/Chicago:20210722T200000
DTSTAMP:20260420T094020
CREATED:20210619T205936Z
LAST-MODIFIED:20210722T220300Z
UID:48269-1626976800-1626984000@farmerstableinlivingston.com
SUMMARY:Grilled Chicken Pasta with Fresh Garden Basil Pesto
DESCRIPTION:Baby Arugula Salad with Shaved Red Onions\, Sliced Strawberries\, Candied Pecans\, Crumbled Goat Cheese and a Sweet Balsamic Vinaigrette \nGrilled Marinated Chicken Breasts served over Fresh Rolled Pasta tossed with a Garden Basil Pesto and Garlic Bread \nLemon Strawberry Basil Sorbet
URL:https://farmerstableinlivingston.com/class/grilled-chicken-pasta-with-fresh-garden-basil-pesto-7-22-2021-2/
LOCATION:Farmer’s Table in Livingston\, 1030 Market Street\, Flora\, MS\, 39071\, United States
END:VEVENT
END:VCALENDAR