BEGIN:VCALENDAR
VERSION:2.0
PRODID:-//Farmers Table in Livingston - ECPv6.2.8.1//NONSGML v1.0//EN
CALSCALE:GREGORIAN
METHOD:PUBLISH
X-WR-CALNAME:Farmers Table in Livingston
X-ORIGINAL-URL:https://farmerstableinlivingston.com
X-WR-CALDESC:Events for Farmers Table in Livingston
REFRESH-INTERVAL;VALUE=DURATION:PT1H
X-Robots-Tag:noindex
X-PUBLISHED-TTL:PT1H
BEGIN:VTIMEZONE
TZID:America/Chicago
BEGIN:DAYLIGHT
TZOFFSETFROM:-0600
TZOFFSETTO:-0500
TZNAME:CDT
DTSTART:20210314T080000
END:DAYLIGHT
BEGIN:STANDARD
TZOFFSETFROM:-0500
TZOFFSETTO:-0600
TZNAME:CST
DTSTART:20211107T070000
END:STANDARD
END:VTIMEZONE
BEGIN:VEVENT
DTSTART;TZID=America/Chicago:20210319T180000
DTEND;TZID=America/Chicago:20210319T200000
DTSTAMP:20260422T061653
CREATED:20210119T232700Z
LAST-MODIFIED:20210318T163039Z
UID:46937-1616176800-1616184000@farmerstableinlivingston.com
SUMMARY:Cast Iron Skillet Filet Mignon 3/19/2021
DESCRIPTION:Spring Farm Salad with Heirloom Cherry Tomatoes\, Sliced Red Onions\, Cucumbers and Ciabatta Croutons with Crumbled Goat Cheese and Red Wine Vinaigrette \nCast Iron Skillet Filet Mignon served over Loaded Yukon Gold Mashed Potatoes\, Garlic Sautéed Broccoli Florets served with a Rich Red Wine Demi Glace \nChocolate Pot de Creme with Toasted Almonds and Fresh Whipped Cream
URL:https://farmerstableinlivingston.com/class/cast-iron-skillet-filet-mignon-3-19-2021/
LOCATION:Farmer’s Table in Livingston\, 1030 Market Street\, Flora\, MS\, 39071\, United States
ORGANIZER;CN="Bridget Engle":MAILTO:bengle@farmerstableinlivingston.com
END:VEVENT
END:VCALENDAR