BEGIN:VCALENDAR
VERSION:2.0
PRODID:-//Farmers Table in Livingston - ECPv6.2.8.1//NONSGML v1.0//EN
CALSCALE:GREGORIAN
METHOD:PUBLISH
X-WR-CALNAME:Farmers Table in Livingston
X-ORIGINAL-URL:https://farmerstableinlivingston.com
X-WR-CALDESC:Events for Farmers Table in Livingston
REFRESH-INTERVAL;VALUE=DURATION:PT1H
X-Robots-Tag:noindex
X-PUBLISHED-TTL:PT1H
BEGIN:VTIMEZONE
TZID:America/Chicago
BEGIN:DAYLIGHT
TZOFFSETFROM:-0600
TZOFFSETTO:-0500
TZNAME:CDT
DTSTART:20210314T080000
END:DAYLIGHT
BEGIN:STANDARD
TZOFFSETFROM:-0500
TZOFFSETTO:-0600
TZNAME:CST
DTSTART:20211107T070000
END:STANDARD
END:VTIMEZONE
BEGIN:VEVENT
DTSTART;TZID=America/Chicago:20210313T120000
DTEND;TZID=America/Chicago:20210313T140000
DTSTAMP:20260423T031006
CREATED:20210209T185013Z
LAST-MODIFIED:20210309T170552Z
UID:47243-1615636800-1615644000@farmerstableinlivingston.com
SUMMARY:Brunch Class
DESCRIPTION:Join us for a delicious  Brunch Class where you and your significant other will learn how to make Homemade Granola Parfaits\, Classic Eggs Benedict with a Creamy Hollandaise Sauce and French Crepes with Strawberries\, Chocolate Sauce and Lemon Zested Whipped Cream! \nThere will be Mimosas\, Bloody Mary’s and Coffee served throughout the meal. \n\nHomemade Granola Parfaits with Fruit\, Yogurt and Fresh Mint\nClassic Eggs Benedict – Toasted English Muffin\, Seared Canadian Bacon\, Poached Eggs with a Creamy Hollandaise Sauce served along side Crispy Breakfast Potatoes\nFrench Crepes with Grand Marnier Macerated Strawberries\, Chocolate Sauce and Lemon Zested Whipped Cream
URL:https://farmerstableinlivingston.com/class/brunch-class/
LOCATION:Farmer’s Table in Livingston\, 1030 Market Street\, Flora\, MS\, 39071\, United States
END:VEVENT
BEGIN:VEVENT
DTSTART;TZID=America/Chicago:20210313T173000
DTEND;TZID=America/Chicago:20210313T193000
DTSTAMP:20260423T031006
CREATED:20210126T185541Z
LAST-MODIFIED:20210313T165120Z
UID:47004-1615656600-1615663800@farmerstableinlivingston.com
SUMMARY:Surf and Turf 3/13/2021
DESCRIPTION:Toasted Pecan Salad with Field Greens\, Dried Cranberries\, Shaved Red Onions\, Bartlett Pears\, Crumbled Gorgonzola Cheese with a Sherry Vinaigrette \nCast Iron Seared Filet Mignon with Jumbo Shrimp Skewers over Truffles Yukon Gold Potatoes and Garlic Roasted Brussels Sprouts with a Red Wine Demi Glace and Lemon Butter Sauce \nBananas Foster with Vanilla Ice Cream
URL:https://farmerstableinlivingston.com/class/surf-and-turf-3-13-2021/
LOCATION:Farmer’s Table in Livingston\, 1030 Market Street\, Flora\, MS\, 39071\, United States
END:VEVENT
END:VCALENDAR