BEGIN:VCALENDAR
VERSION:2.0
PRODID:-//Farmers Table in Livingston - ECPv6.2.8.1//NONSGML v1.0//EN
CALSCALE:GREGORIAN
METHOD:PUBLISH
X-WR-CALNAME:Farmers Table in Livingston
X-ORIGINAL-URL:https://farmerstableinlivingston.com
X-WR-CALDESC:Events for Farmers Table in Livingston
REFRESH-INTERVAL;VALUE=DURATION:PT1H
X-Robots-Tag:noindex
X-PUBLISHED-TTL:PT1H
BEGIN:VTIMEZONE
TZID:America/Chicago
BEGIN:DAYLIGHT
TZOFFSETFROM:-0600
TZOFFSETTO:-0500
TZNAME:CDT
DTSTART:20210314T080000
END:DAYLIGHT
BEGIN:STANDARD
TZOFFSETFROM:-0500
TZOFFSETTO:-0600
TZNAME:CST
DTSTART:20211107T070000
END:STANDARD
END:VTIMEZONE
BEGIN:VEVENT
DTSTART;TZID=America/Chicago:20210211T180000
DTEND;TZID=America/Chicago:20210211T200000
DTSTAMP:20260424T102619
CREATED:20210113T204708Z
LAST-MODIFIED:20210129T203511Z
UID:46830-1613066400-1613073600@farmerstableinlivingston.com
SUMMARY:Valentines Date Night 2/11/2021
DESCRIPTION:Chargrilled Gulf Oysters with Garlic/Spinach/Parmesan Topping and Grilled French Bread with Roasted Garlic Butter Spread \nGrilled Filet Mignon and Broiled Maine Lobster Tails over White Truffle Parmesan Risotto and Shallot/Garlic Sautéed Asparagus with 2 Sauces – Rich Red Wine Demi Glace and Citrus Beurre Blanc \nFlourless Chocolate Torte with a Sweet Strawberry/Grand Marnier Reduction
URL:https://farmerstableinlivingston.com/class/valentines-date-night-2-11-2021/
LOCATION:Farmer’s Table in Livingston\, 1030 Market Street\, Flora\, MS\, 39071\, United States
END:VEVENT
END:VCALENDAR