BEGIN:VCALENDAR
VERSION:2.0
PRODID:-//Farmers Table in Livingston - ECPv6.2.8.1//NONSGML v1.0//EN
CALSCALE:GREGORIAN
METHOD:PUBLISH
X-WR-CALNAME:Farmers Table in Livingston
X-ORIGINAL-URL:https://farmerstableinlivingston.com
X-WR-CALDESC:Events for Farmers Table in Livingston
REFRESH-INTERVAL;VALUE=DURATION:PT1H
X-Robots-Tag:noindex
X-PUBLISHED-TTL:PT1H
BEGIN:VTIMEZONE
TZID:America/Chicago
BEGIN:DAYLIGHT
TZOFFSETFROM:-0600
TZOFFSETTO:-0500
TZNAME:CDT
DTSTART:20210314T080000
END:DAYLIGHT
BEGIN:STANDARD
TZOFFSETFROM:-0500
TZOFFSETTO:-0600
TZNAME:CST
DTSTART:20211107T070000
END:STANDARD
END:VTIMEZONE
BEGIN:VEVENT
DTSTART;TZID=America/Chicago:20210206T110000
DTEND;TZID=America/Chicago:20210206T130000
DTSTAMP:20260425T103524
CREATED:20210126T174137Z
LAST-MODIFIED:20210126T174137Z
UID:47003-1612609200-1612616400@farmerstableinlivingston.com
SUMMARY:Londyn's Birthday Party 2/6/2021
DESCRIPTION:
URL:https://farmerstableinlivingston.com/class/londyns-birthday-party-2-6-2021/
LOCATION:Farmer’s Table in Livingston\, 1030 Market Street\, Flora\, MS\, 39071\, United States
END:VEVENT
BEGIN:VEVENT
DTSTART;TZID=America/Chicago:20210206T180000
DTEND;TZID=America/Chicago:20210206T200000
DTSTAMP:20260425T103524
CREATED:20210113T195703Z
LAST-MODIFIED:20210127T192627Z
UID:46826-1612634400-1612641600@farmerstableinlivingston.com
SUMMARY:40 Dry Aged New York Strip Steaks 2/6/2021
DESCRIPTION:Butternut Squash Soup with Jumbo Lump Crabmeat and Chive Oil \nSous Vide 40 Day Dry Aged New York Strip Steaks over White Truffle Yukon Gold Mashed Potatoes\, Lemon Zested/Garlic Roasted Broccolini with a Red Wine Demi Glace \nChocolate Pot de Creme with Fresh Whipped Cream and Toasted Almonds
URL:https://farmerstableinlivingston.com/class/40-dry-aged-new-york-strip-steaks-2-6-2021/
LOCATION:Farmer’s Table in Livingston\, 1030 Market Street\, Flora\, MS\, 39071\, United States
ATTACH;FMTTYPE=image/jpeg:https://farmerstableinlivingston.com/wp-content/uploads/2021/01/Dry-aged-steaks-.jpg
END:VEVENT
END:VCALENDAR