BEGIN:VCALENDAR
VERSION:2.0
PRODID:-//Farmers Table in Livingston - ECPv6.2.8.1//NONSGML v1.0//EN
CALSCALE:GREGORIAN
METHOD:PUBLISH
X-ORIGINAL-URL:https://farmerstableinlivingston.com
X-WR-CALDESC:Events for Farmers Table in Livingston
REFRESH-INTERVAL;VALUE=DURATION:PT1H
X-Robots-Tag:noindex
X-PUBLISHED-TTL:PT1H
BEGIN:VTIMEZONE
TZID:America/Chicago
BEGIN:DAYLIGHT
TZOFFSETFROM:-0600
TZOFFSETTO:-0500
TZNAME:CDT
DTSTART:20210314T080000
END:DAYLIGHT
BEGIN:STANDARD
TZOFFSETFROM:-0500
TZOFFSETTO:-0600
TZNAME:CST
DTSTART:20211107T070000
END:STANDARD
END:VTIMEZONE
BEGIN:VEVENT
DTSTART;TZID=America/Chicago:20210128T180000
DTEND;TZID=America/Chicago:20210128T200000
DTSTAMP:20260423T081824
CREATED:20210113T173248Z
LAST-MODIFIED:20210126T165332Z
UID:46807-1611856800-1611864000@farmerstableinlivingston.com
SUMMARY:Stuffed Pork Tenderloin 1/28/2021
DESCRIPTION:Roasted Sweet Potato Salad\, Shaved Red Onions\, Blue Cheese Crumbles\, Toasted Walnuts\, Field Greens and a Lemon Thyme Vinaigrette \nBacon/Mushroom/Onion Stuffed Pork Tenderloin served with Sautéed Spinach\, Garlic Roasted Potato Hash drizzled with a Madeira Wine Demi Glace \nCinnamon Spiced Pear Hand Pie with Fresh Whipped Cream
URL:https://farmerstableinlivingston.com/class/stuffed-pork-tenderloin-1-28-2021/
LOCATION:Farmer’s Table in Livingston\, 1030 Market Street\, Flora\, MS\, 39071\, United States
END:VEVENT
END:VCALENDAR