BEGIN:VCALENDAR
VERSION:2.0
PRODID:-//Farmers Table in Livingston - ECPv6.2.8.1//NONSGML v1.0//EN
CALSCALE:GREGORIAN
METHOD:PUBLISH
X-ORIGINAL-URL:https://farmerstableinlivingston.com
X-WR-CALDESC:Events for Farmers Table in Livingston
REFRESH-INTERVAL;VALUE=DURATION:PT1H
X-Robots-Tag:noindex
X-PUBLISHED-TTL:PT1H
BEGIN:VTIMEZONE
TZID:America/Chicago
BEGIN:DAYLIGHT
TZOFFSETFROM:-0600
TZOFFSETTO:-0500
TZNAME:CDT
DTSTART:20210314T080000
END:DAYLIGHT
BEGIN:STANDARD
TZOFFSETFROM:-0500
TZOFFSETTO:-0600
TZNAME:CST
DTSTART:20211107T070000
END:STANDARD
END:VTIMEZONE
BEGIN:VEVENT
DTSTART;TZID=America/Chicago:20210102T173000
DTEND;TZID=America/Chicago:20210102T193000
DTSTAMP:20260423T081839
CREATED:20201226T185051Z
LAST-MODIFIED:20201231T203703Z
UID:46576-1609608600-1609615800@farmerstableinlivingston.com
SUMMARY:Pan Roasted Gulf Redfish 1/2/2021
DESCRIPTION:Toasted Pecan Salad with Field Greens\, Dried Cranberries\, Shaved Red Onion\, Bartlett Pears\, Crumbled Gorgonzola Cheese with a Sherry Honey Vinaigrette \nPan Roasted Gulf Redfish over Black Eye Pea Hoppin’ John with Garlic Sautéed Thin Beans and topped with Gulf Crabmeat and drizzled with Citrus Butter Sauce \nWarm Apple Cinnamon Cast Iron Skillet Pie with Whipped Cream
URL:https://farmerstableinlivingston.com/class/pan-roasted-gulf-redfish-1-2-2021/
LOCATION:Farmer’s Table in Livingston\, 1030 Market Street\, Flora\, MS\, 39071\, United States
END:VEVENT
END:VCALENDAR