BEGIN:VCALENDAR
VERSION:2.0
PRODID:-//Farmers Table in Livingston - ECPv6.2.8.1//NONSGML v1.0//EN
CALSCALE:GREGORIAN
METHOD:PUBLISH
X-WR-CALNAME:Farmers Table in Livingston
X-ORIGINAL-URL:https://farmerstableinlivingston.com
X-WR-CALDESC:Events for Farmers Table in Livingston
REFRESH-INTERVAL;VALUE=DURATION:PT1H
X-Robots-Tag:noindex
X-PUBLISHED-TTL:PT1H
BEGIN:VTIMEZONE
TZID:America/Chicago
BEGIN:DAYLIGHT
TZOFFSETFROM:-0600
TZOFFSETTO:-0500
TZNAME:CDT
DTSTART:20200308T080000
END:DAYLIGHT
BEGIN:STANDARD
TZOFFSETFROM:-0500
TZOFFSETTO:-0600
TZNAME:CST
DTSTART:20201101T070000
END:STANDARD
END:VTIMEZONE
BEGIN:VEVENT
DTSTART;TZID=America/Chicago:20201028T180000
DTEND;TZID=America/Chicago:20201028T200000
DTSTAMP:20260424T074329
CREATED:20200923T022108Z
LAST-MODIFIED:20201028T191854Z
UID:45753-1603908000-1603915200@farmerstableinlivingston.com
SUMMARY:Fried Chicken Dinner 10/28/2020
DESCRIPTION:French Onion Soup with Gruyere Toasted Baguettes \nFried Chicken Dinner with Sweet Potato Mashed Potatoes and Ham Hock Braised Collard Greens with Sweet/Heat Honey Butter Drizzle for the Chicken (Yum!) \nCaramel Pecan Pumpkin Bread Pudding \n 
URL:https://farmerstableinlivingston.com/class/fried-chicken-dinner-10-28-2020/
LOCATION:Farmer’s Table in Livingston\, 1030 Market Street\, Flora\, MS\, 39071\, United States
END:VEVENT
END:VCALENDAR