BEGIN:VCALENDAR
VERSION:2.0
PRODID:-//Farmers Table in Livingston - ECPv6.2.8.1//NONSGML v1.0//EN
CALSCALE:GREGORIAN
METHOD:PUBLISH
X-WR-CALNAME:Farmers Table in Livingston
X-ORIGINAL-URL:https://farmerstableinlivingston.com
X-WR-CALDESC:Events for Farmers Table in Livingston
REFRESH-INTERVAL;VALUE=DURATION:PT1H
X-Robots-Tag:noindex
X-PUBLISHED-TTL:PT1H
BEGIN:VTIMEZONE
TZID:America/Chicago
BEGIN:DAYLIGHT
TZOFFSETFROM:-0600
TZOFFSETTO:-0500
TZNAME:CDT
DTSTART:20200308T080000
END:DAYLIGHT
BEGIN:STANDARD
TZOFFSETFROM:-0500
TZOFFSETTO:-0600
TZNAME:CST
DTSTART:20201101T070000
END:STANDARD
END:VTIMEZONE
BEGIN:VEVENT
DTSTART;TZID=America/Chicago:20201024T173000
DTEND;TZID=America/Chicago:20201024T193000
DTSTAMP:20260419T074001
CREATED:20200923T022637Z
LAST-MODIFIED:20201023T141518Z
UID:45755-1603560600-1603567800@farmerstableinlivingston.com
SUMMARY:Pan Roasted Redfish Sold Out
DESCRIPTION:Fall Green Salad with Sliced Pears\, Crispy Prosciutto\, Candied Nuts\, Gorgonzola Cheese and a Balsamic Vinaigrette \nPan Roasted Redfish over Butternut Squash/Bacon/Parmesan Risotto\, Garlic Sautéed Thin Beans\, Jumbo Lump Crabmeat with Blackened Tomato Butter Sauce \nPecan Pie with Maple Whipped Cream
URL:https://farmerstableinlivingston.com/class/pan-roasted-redfish-10-24-2020/
LOCATION:Farmer’s Table in Livingston\, 1030 Market Street\, Flora\, MS\, 39071\, United States
END:VEVENT
END:VCALENDAR