BEGIN:VCALENDAR
VERSION:2.0
PRODID:-//Farmers Table in Livingston - ECPv6.2.8.1//NONSGML v1.0//EN
CALSCALE:GREGORIAN
METHOD:PUBLISH
X-ORIGINAL-URL:https://farmerstableinlivingston.com
X-WR-CALDESC:Events for Farmers Table in Livingston
REFRESH-INTERVAL;VALUE=DURATION:PT1H
X-Robots-Tag:noindex
X-PUBLISHED-TTL:PT1H
BEGIN:VTIMEZONE
TZID:America/Chicago
BEGIN:DAYLIGHT
TZOFFSETFROM:-0600
TZOFFSETTO:-0500
TZNAME:CDT
DTSTART:20200308T080000
END:DAYLIGHT
BEGIN:STANDARD
TZOFFSETFROM:-0500
TZOFFSETTO:-0600
TZNAME:CST
DTSTART:20201101T070000
END:STANDARD
END:VTIMEZONE
BEGIN:VEVENT
DTSTART;TZID=America/Chicago:20200407T180000
DTEND;TZID=America/Chicago:20200407T200000
DTSTAMP:20260424T015425
CREATED:20200313T212818Z
LAST-MODIFIED:20200313T212857Z
UID:43130-1586282400-1586289600@farmerstableinlivingston.com
SUMMARY:SR. Party
DESCRIPTION:
URL:https://farmerstableinlivingston.com/class/sr-party-3/
LOCATION:The Town Square\, United States
END:VEVENT
END:VCALENDAR