BEGIN:VCALENDAR
VERSION:2.0
PRODID:-//Farmers Table in Livingston - ECPv6.2.8.1//NONSGML v1.0//EN
CALSCALE:GREGORIAN
METHOD:PUBLISH
X-ORIGINAL-URL:https://farmerstableinlivingston.com
X-WR-CALDESC:Events for Farmers Table in Livingston
REFRESH-INTERVAL;VALUE=DURATION:PT1H
X-Robots-Tag:noindex
X-PUBLISHED-TTL:PT1H
BEGIN:VTIMEZONE
TZID:America/Chicago
BEGIN:DAYLIGHT
TZOFFSETFROM:-0600
TZOFFSETTO:-0500
TZNAME:CDT
DTSTART:20200308T080000
END:DAYLIGHT
BEGIN:STANDARD
TZOFFSETFROM:-0500
TZOFFSETTO:-0600
TZNAME:CST
DTSTART:20201101T070000
END:STANDARD
END:VTIMEZONE
BEGIN:VEVENT
DTSTART;TZID=America/Chicago:20200228T180000
DTEND;TZID=America/Chicago:20200228T200000
DTSTAMP:20260420T154125
CREATED:20200107T221522Z
LAST-MODIFIED:20200222T170838Z
UID:40117-1582912800-1582920000@farmerstableinlivingston.com
SUMMARY:Grilled Redfish 2/28/20
DESCRIPTION:Heart of Palm Salad with Shaved Radish\, Thin Red Onions\, Citrus Segments\, Cucumber Slices with Feta Cheese Crumbles tossed in a Red Wine Vinaigrette \nGrilled Gulf Redfish over Potato/Cauliflower Mash with Garlic Roasted Squash and Zucchini Medley drizzled with a White Wine Butter Sauce \nRaspberry Almond Tart with Sweet Whipped Cream
URL:https://farmerstableinlivingston.com/class/grilled-redfish-2-28-20/
LOCATION:Farmer’s Table in Livingston\, 1030 Market Street\, Flora\, MS\, 39071\, United States
END:VEVENT
END:VCALENDAR