BEGIN:VCALENDAR
VERSION:2.0
PRODID:-//Farmers Table in Livingston - ECPv6.2.8.1//NONSGML v1.0//EN
CALSCALE:GREGORIAN
METHOD:PUBLISH
X-WR-CALNAME:Farmers Table in Livingston
X-ORIGINAL-URL:https://farmerstableinlivingston.com
X-WR-CALDESC:Events for Farmers Table in Livingston
REFRESH-INTERVAL;VALUE=DURATION:PT1H
X-Robots-Tag:noindex
X-PUBLISHED-TTL:PT1H
BEGIN:VTIMEZONE
TZID:America/Chicago
BEGIN:DAYLIGHT
TZOFFSETFROM:-0600
TZOFFSETTO:-0500
TZNAME:CDT
DTSTART:20190310T080000
END:DAYLIGHT
BEGIN:STANDARD
TZOFFSETFROM:-0500
TZOFFSETTO:-0600
TZNAME:CST
DTSTART:20191103T070000
END:STANDARD
END:VTIMEZONE
BEGIN:VEVENT
DTSTART;TZID=America/Chicago:20191231T180000
DTEND;TZID=America/Chicago:20191231T200000
DTSTAMP:20260422T040359
CREATED:20191120T205501Z
LAST-MODIFIED:20191228T200037Z
UID:37106-1577815200-1577822400@farmerstableinlivingston.com
SUMMARY:New Years Eve Dinner Sold Out
DESCRIPTION:Sturgeon Caviar and Champagne Toast with Traditional Accompaniments \nPan Seared Hudson Valley Foie Gras over Brioche Toast with Orange Marmalade and a Rich Balsamic Reduction (Saba) \nSurf and Turf – Cast Iron Seared Filet Mignon with Pan Seared Diver Scallops over Wild Mushroom Risotto  and Garlic Sautéed Asparagus with Grain Mustard Lemon Butter Sauce \nChocolate Hazelnut Tart with Chantilly Cream
URL:https://farmerstableinlivingston.com/class/new-years-eve-dinner-12-31-19/
LOCATION:Farmer’s Table in Livingston\, 1030 Market Street\, Flora\, MS\, 39071\, United States
END:VEVENT
END:VCALENDAR