BEGIN:VCALENDAR
VERSION:2.0
PRODID:-//Farmers Table in Livingston - ECPv6.2.8.1//NONSGML v1.0//EN
CALSCALE:GREGORIAN
METHOD:PUBLISH
X-ORIGINAL-URL:https://farmerstableinlivingston.com
X-WR-CALDESC:Events for Farmers Table in Livingston
REFRESH-INTERVAL;VALUE=DURATION:PT1H
X-Robots-Tag:noindex
X-PUBLISHED-TTL:PT1H
BEGIN:VTIMEZONE
TZID:America/Chicago
BEGIN:DAYLIGHT
TZOFFSETFROM:-0600
TZOFFSETTO:-0500
TZNAME:CDT
DTSTART:20190310T080000
END:DAYLIGHT
BEGIN:STANDARD
TZOFFSETFROM:-0500
TZOFFSETTO:-0600
TZNAME:CST
DTSTART:20191103T070000
END:STANDARD
END:VTIMEZONE
BEGIN:VEVENT
DTSTART;TZID=America/Chicago:20190823T180000
DTEND;TZID=America/Chicago:20190823T200000
DTSTAMP:20260423T105149
CREATED:20190711T213514Z
LAST-MODIFIED:20190813T213835Z
UID:31367-1566583200-1566590400@farmerstableinlivingston.com
SUMMARY:A Night in New Orleans Sold Out
DESCRIPTION:Fried Louisiana Oysters with Creole Mustard Hollandaise on Soft Toasted Brioche \nPan Seared Redfish Filets over Lyonnaise Potatoes and Cauliflower Au Gratin with a Tobasco Lemon Beurre Blanc \nBread Pudding with Banana Sauce \n 
URL:https://farmerstableinlivingston.com/class/a-night-in-new-orleans-8-23-19/
LOCATION:Farmer’s Table in Livingston\, 1030 Market Street\, Flora\, MS\, 39071\, United States
END:VEVENT
END:VCALENDAR