BEGIN:VCALENDAR
VERSION:2.0
PRODID:-//Farmers Table in Livingston - ECPv6.2.8.1//NONSGML v1.0//EN
CALSCALE:GREGORIAN
METHOD:PUBLISH
X-WR-CALNAME:Farmers Table in Livingston
X-ORIGINAL-URL:https://farmerstableinlivingston.com
X-WR-CALDESC:Events for Farmers Table in Livingston
REFRESH-INTERVAL;VALUE=DURATION:PT1H
X-Robots-Tag:noindex
X-PUBLISHED-TTL:PT1H
BEGIN:VTIMEZONE
TZID:America/Chicago
BEGIN:DAYLIGHT
TZOFFSETFROM:-0600
TZOFFSETTO:-0500
TZNAME:CDT
DTSTART:20190310T080000
END:DAYLIGHT
BEGIN:STANDARD
TZOFFSETFROM:-0500
TZOFFSETTO:-0600
TZNAME:CST
DTSTART:20191103T070000
END:STANDARD
END:VTIMEZONE
BEGIN:VEVENT
DTSTART;TZID=America/Chicago:20190708T090000
DTEND;TZID=America/Chicago:20190712T120000
DTSTAMP:20260423T062555
CREATED:20190403T164120Z
LAST-MODIFIED:20190710T154536Z
UID:29165-1562576400-1562932800@farmerstableinlivingston.com
SUMMARY:Childrens Camp   7/8/19 - 7/12/19
DESCRIPTION:Calling all kids for a week of mad-delicious food experiments and learning how to cook your favorite foods! All week we’ll get hands-on and cover fundamentals such as basic knife skills\, how to read and follow a recipe\, measuring and mixing\, and the importance of kitchen safety. Best of all\, we’ll get into the fun scientific details of cooking\, including the importance of using specific amounts of ingredients and cooking times. Along the way\, kids will learn how to make great food that will impress their family and friends. \nDay 1 – Pasta Day -Grilled Sausage and Pepper Skewers\, Pasta Primavera with Fresh Vegetables\, Lemon Sorbet with Shortbread Cookies \nDay 2 – Cajun Day – Mini Creole Meat Pies\, Classic Shrimp and Grit Bites\, Sweet Sugar Beignets with Whipped Cream \nDay 3 – Asian Day – Egg Rolls with Sweet Chili Sauce\, Sesame Chicken and White Rice\, Great Wall Cotton Cake \nDay 4 – All American Day – Hand Cut French Fries with Cheese Sauce\, Fresh Ground Steak Sliders\, Mini Apple Pies with Vanilla Ice Cream \nDay 5 – Mystery Box – The Chef will have a mystery box of special ingredients for the kids to make their own creations!
URL:https://farmerstableinlivingston.com/class/kids-camp-ages-7-12-7-8-19-7-12-19/
LOCATION:Farmer’s Table in Livingston\, 1030 Market Street\, Flora\, MS\, 39071\, United States
END:VEVENT
BEGIN:VEVENT
DTSTART;TZID=America/Chicago:20190710T180000
DTEND;TZID=America/Chicago:20190710T200000
DTSTAMP:20260423T062555
CREATED:20190501T183432Z
LAST-MODIFIED:20190710T214739Z
UID:29736-1562781600-1562788800@farmerstableinlivingston.com
SUMMARY:Fried Shrimp Poboys 7/10/19
DESCRIPTION:Shaved Apple and Goat Cheese Salad with Toasted Walnuts\, Shaved Red Onions\, Red Grapes and a Lemon Honey Vinaigrette \nFried Shrimp Poboys with Traditional Toppings and Hand Cut Potato Chips with Smoked Comeback Dressing \nBananas Foster with Vanilla Ice Cream \n 
URL:https://farmerstableinlivingston.com/class/fried-shrimp-poboys-7-10-19/
LOCATION:Farmer’s Table in Livingston\, 1030 Market Street\, Flora\, MS\, 39071\, United States
END:VEVENT
END:VCALENDAR