BEGIN:VCALENDAR
VERSION:2.0
PRODID:-//Farmers Table in Livingston - ECPv6.2.8.1//NONSGML v1.0//EN
CALSCALE:GREGORIAN
METHOD:PUBLISH
X-ORIGINAL-URL:https://farmerstableinlivingston.com
X-WR-CALDESC:Events for Farmers Table in Livingston
REFRESH-INTERVAL;VALUE=DURATION:PT1H
X-Robots-Tag:noindex
X-PUBLISHED-TTL:PT1H
BEGIN:VTIMEZONE
TZID:America/Chicago
BEGIN:DAYLIGHT
TZOFFSETFROM:-0600
TZOFFSETTO:-0500
TZNAME:CDT
DTSTART:20190310T080000
END:DAYLIGHT
BEGIN:STANDARD
TZOFFSETFROM:-0500
TZOFFSETTO:-0600
TZNAME:CST
DTSTART:20191103T070000
END:STANDARD
END:VTIMEZONE
BEGIN:VEVENT
DTSTART;TZID=America/Chicago:20190626T180000
DTEND;TZID=America/Chicago:20190626T200000
DTSTAMP:20260420T094025
CREATED:20190509T183221Z
LAST-MODIFIED:20190509T183221Z
UID:29946-1561572000-1561579200@farmerstableinlivingston.com
SUMMARY:Chicken Parmesan 6/26/19
DESCRIPTION:Traditional Caesar Salad with Crispy Ciabatta Croutons and Homemade Caesar Dressing \nChicken Parmesan with an Oven Roasted Tomato Sauce over Angel Hair Pasta and Garlic Bread \nTiramisu with Espresso Whipped Cream \n 
URL:https://farmerstableinlivingston.com/class/chicken-parmesan-6-26-19/
LOCATION:Farmer’s Table in Livingston\, 1030 Market Street\, Flora\, MS\, 39071\, United States
END:VEVENT
END:VCALENDAR