BEGIN:VCALENDAR
VERSION:2.0
PRODID:-//Farmers Table in Livingston - ECPv6.2.8.1//NONSGML v1.0//EN
CALSCALE:GREGORIAN
METHOD:PUBLISH
X-ORIGINAL-URL:https://farmerstableinlivingston.com
X-WR-CALDESC:Events for Farmers Table in Livingston
REFRESH-INTERVAL;VALUE=DURATION:PT1H
X-Robots-Tag:noindex
X-PUBLISHED-TTL:PT1H
BEGIN:VTIMEZONE
TZID:America/Chicago
BEGIN:DAYLIGHT
TZOFFSETFROM:-0600
TZOFFSETTO:-0500
TZNAME:CDT
DTSTART:20190310T080000
END:DAYLIGHT
BEGIN:STANDARD
TZOFFSETFROM:-0500
TZOFFSETTO:-0600
TZNAME:CST
DTSTART:20191103T070000
END:STANDARD
END:VTIMEZONE
BEGIN:VEVENT
DTSTART;TZID=America/Chicago:20190611T180000
DTEND;TZID=America/Chicago:20190611T200000
DTSTAMP:20260421T125816
CREATED:20190501T185127Z
LAST-MODIFIED:20190611T205543Z
UID:29742-1560276000-1560283200@farmerstableinlivingston.com
SUMMARY:Bone In Pork Chops 6/11/19
DESCRIPTION:Traditional Caesar Salad with Ciabatta Croutons and Fresh Baked Parmesan Crisps \nGrilled Bone In Pork Chops over Pan Seared Pepper Jack Grit Cake topped with Corn and Bell Pepper Salsa and a Tobasco Lemon Butter Sauce \nCast Iron Skillet Apple Pie with Fresh Whipped Cream \n 
URL:https://farmerstableinlivingston.com/class/bone-in-pork-chops-6-11-19/
LOCATION:Farmer’s Table in Livingston\, 1030 Market Street\, Flora\, MS\, 39071\, United States
END:VEVENT
END:VCALENDAR